| GSEAlm 1.2.0 Assaf Oron
 
 | Bioconductor Changelog |  | Snapshot Date: 2009-04-18 11:27:48 -0700 (Sat, 18 Apr 2009) |  | URL: https://hedgehog.fhcrc.org/bioconductor/branches/RELEASE_2_3/madman/Rpacks/GSEAlm |  | Last Changed Rev: 34811 / Revision: 38965 |  | Last Changed Date: 2008-10-21 15:32:58 -0700 (Tue, 21 Oct 2008) | 
 | wilson2 | Linux (openSUSE 11.1) / x86_64 | OK | OK |  | 
| liverpool | Windows Server 2003 R2 (32-bit) / x64 | OK | OK | [ OK ] | 
| pitt | Mac OS X Tiger (10.4.11) / i386 | OK | OK | OK | 
| pelham | Mac OS X Leopard (10.5.6) / i386 | OK | OK | OK | 
installing R.css in E:/biocbld/bbs-2.3-bioc/meat/GSEAlm.buildbin-libdir
Using auto-selected zip options ''
---------- Making package GSEAlm ------------
  adding build stamp to DESCRIPTION
  installing NAMESPACE file and metadata
  installing R files
  installing inst files
  preparing package GSEAlm for lazy loading
Loading required package: Biobase
Loading required package: tools
Welcome to Bioconductor
  Vignettes contain introductory material. To view, type
  'openVignette()'. To cite Bioconductor, see
  'citation("Biobase")' and for packages 'citation(pkgname)'.
  installing man source files
  installing indices
  installing help
 >>> Building/Updating help pages for package 'GSEAlm'
     Formats: text html latex example chm 
  GSNormalize                       text    html    latex   example chm
  dfbetasPerGene                    text    html    latex   example chm
  getResidPerGene                   text    html    latex   example chm
Note: removing empty section \references in file 'gsealmPerm.Rd'
Note: removing empty section \references in file 'gsealmPerm.Rd'
  gsealmPerm                        text    html    latex   example chm
  lmPerGene                         text    html    latex   example chm
  resplot                           text    html    latex   example chm
Microsoft HTML Help Compiler 4.74.8702
Compiling e:\biocbld\bbs-2.3-bioc\meat\R.INSTALL.5292\GSEAlm\chm\GSEAlm.chm
Compile time: 0 minutes, 0 seconds
7	Topics
37	Local links
0	Internet links
1	Graphic
Created e:\biocbld\bbs-2.3-bioc\meat\R.INSTALL.5292\GSEAlm\chm\GSEAlm.chm, 38,249 bytes
Compression decreased file by 9,457 bytes.
  adding MD5 sums
packaged installation of package 'GSEAlm' as GSEAlm_1.2.0.zip
* DONE (GSEAlm)