| GSEABase 1.4.0 Biocore Team c/o BioC user list
 
 | Bioconductor Changelog |  | Snapshot Date: 2009-04-18 11:27:48 -0700 (Sat, 18 Apr 2009) |  | URL: https://hedgehog.fhcrc.org/bioconductor/branches/RELEASE_2_3/madman/Rpacks/GSEABase |  | Last Changed Rev: 34811 / Revision: 38965 |  | Last Changed Date: 2008-10-21 15:32:58 -0700 (Tue, 21 Oct 2008) | 
 | wilson2 | Linux (openSUSE 11.1) / x86_64 | OK | OK |  | 
| liverpool | Windows Server 2003 R2 (32-bit) / x64 | OK | OK | OK | 
| pitt | Mac OS X Tiger (10.4.11) / i386 | OK | OK | OK | 
| pelham | Mac OS X Leopard (10.5.6) / i386 | OK | OK | [ OK ] | 
                INSTALLATION WITH 'R CMD INSTALL --library=GSEABase.buildbin-libdir GSEABase_1.4.0.tar.gz'
* Installing *source* package 'GSEABase' ...
** R
** inst
** preparing package for lazy loading
Loading required package: AnnotationDbi
Loading required package: Biobase
Loading required package: tools
Welcome to Bioconductor
  Vignettes contain introductory material. To view, type
  'openVignette()'. To cite Bioconductor, see
  'citation("Biobase")' and for packages 'citation(pkgname)'.
Loading required package: annotate
Loading required package: xtable
Loading required package: graph
** help
 >>> Building/Updating help pages for package 'GSEABase'
     Formats: text html latex example 
  CollectionType-class              text    html    latex   example
  CollectionType-constructors       text    html    latex   example
  GSEABase-package                  text    html    latex   example
  GeneColorSet-class                text    html    latex   example
  GeneColorSet-methods              text    html    latex
  GeneIdentifierType-class          text    html    latex   example
  GeneIdentifierType-constructors   text    html    latex   example
  GeneSet-class                     text    html    latex   example
  GeneSet-methods                   text    html    latex   example
  GeneSetCollection-class           text    html    latex   example
  GeneSetCollection-methods         text    html    latex   example
  OBOCollection-class               text    html    latex   example
  details-methods                   text    html    latex
  getOBOCollection                  text    html    latex   example
  getObjects                        text    html    latex   example
  goSlim-methods                    text    html    latex   example
  incidence-methods                 text    html    latex   example
  mapIdentifiers-methods            text    html    latex
** building package indices ...
* DONE (GSEABase)