DFP 1.0.0 Rodrigo Alvarez-Glez
 | Bioconductor Changelog |  | Snapshot Date: 2009-04-18 11:27:48 -0700 (Sat, 18 Apr 2009) |  | URL: https://hedgehog.fhcrc.org/bioconductor/branches/RELEASE_2_3/madman/Rpacks/DFP |  | Last Changed Rev: 34811 / Revision: 38965 |  | Last Changed Date: 2008-10-21 15:32:58 -0700 (Tue, 21 Oct 2008) |  
  | wilson2  | Linux (openSUSE 11.1) / x86_64  |  OK  | [ OK ] |  | 
| liverpool  | Windows Server 2003 R2 (32-bit) / x64  |  OK  |  OK  |  OK  | 
| pitt  | Mac OS X Tiger (10.4.11) / i386  |  OK  |  OK  |  OK  | 
| pelham  | Mac OS X Leopard (10.5.6) / i386  |  OK  |  OK  |  OK  | 
* checking for working pdflatex ... OK
* using log directory '/loc/home/biocbuild/bbs-2.3-bioc/meat/DFP.Rcheck'
* using R version 2.8.1 (2008-12-22)
* using session charset: UTF-8
* checking for file 'DFP/DESCRIPTION' ... OK
* checking extension type ... Package
* this is package 'DFP' version '1.0.0'
* checking package name space information ... OK
* checking package dependencies ... OK
* checking if this is a source package ... OK
* checking whether package 'DFP' can be installed ... OK
* checking package directory ... OK
* checking for portable file names ... OK
* checking for sufficient/correct file permissions ... OK
* checking DESCRIPTION meta-information ... OK
* checking top-level files ... OK
* checking index information ... OK
* checking package subdirectories ... OK
* checking R files for non-ASCII characters ... OK
* checking R files for syntax errors ... OK
* checking whether the package can be loaded ... OK
* checking whether the package can be loaded with stated dependencies ... OK
* checking whether the name space can be loaded with stated dependencies ... OK
* checking for unstated dependencies in R code ... OK
* checking S3 generic/method consistency ... OK
* checking replacement functions ... OK
* checking foreign function calls ... OK
* checking R code for possible problems ... NOTE
.plotGeneMF: no visible binding for global variable ‘x’
* checking Rd files ... OK
* checking Rd cross-references ... OK
* checking for missing documentation entries ... OK
* checking for code/documentation mismatches ... OK
* checking Rd \usage sections ... OK
* checking data for non-ASCII characters ... OK
* creating DFP-Ex.R ... OK
* checking examples ... OK
* checking package vignettes in 'inst/doc' ... OK
* creating DFP-manual.tex ... OK
* checking DFP-manual.tex using pdflatex ... OK
 
* Installing *source* package 'DFP' ...
** R
** data
** inst
** preparing package for lazy loading
Loading required package: Biobase
Loading required package: tools
Welcome to Bioconductor
  Vignettes contain introductory material. To view, type
  'openVignette()'. To cite Bioconductor, see
  'citation("Biobase")' and for packages 'citation(pkgname)'.
** help
 >>> Building/Updating help pages for package 'DFP'
     Formats: text html latex example 
  DFP-internal                      text    html    latex
  DFP-package                       text    html    latex   example
  ExpressionLevel-class             text    html    latex   example
  HighExpressionLevel-class         text    html    latex   example
  LowExpressionLevel-class          text    html    latex   example
  MediumExpressionLevel-class       text    html    latex   example
  calculateDiscriminantFuzzyPattern text    html    latex
  calculateFuzzyPatterns            text    html    latex
  calculateMembershipFunctions      text    html    latex
  discretizeExpressionValues        text    html    latex
  discriminantFuzzyPattern          text    html    latex   example
  plotDiscriminantFuzzyPattern      text    html    latex
  plotMembershipFunctions           text    html    latex
  readCSV                           text    html    latex   example
  rmadataset                        text    html    latex   example
  show-methods                      text    html    latex
  showDiscreteValues                text    html    latex
  showFuzzyPatterns                 text    html    latex
** building package indices ...
* DONE (DFP)