| CoCiteStats 1.14.0 R. Gentleman
 
 | Bioconductor Changelog |  | Snapshot Date: 2009-04-18 11:27:48 -0700 (Sat, 18 Apr 2009) |  | URL: https://hedgehog.fhcrc.org/bioconductor/branches/RELEASE_2_3/madman/Rpacks/CoCiteStats |  | Last Changed Rev: 34811 / Revision: 38965 |  | Last Changed Date: 2008-10-21 15:32:58 -0700 (Tue, 21 Oct 2008) | 
 | wilson2 | Linux (openSUSE 11.1) / x86_64 | OK | OK |  | 
| liverpool | Windows Server 2003 R2 (32-bit) / x64 | OK | OK | [ OK ] | 
| pitt | Mac OS X Tiger (10.4.11) / i386 | OK | OK | OK | 
| pelham | Mac OS X Leopard (10.5.6) / i386 | OK | OK | OK | 
installing R.css in E:/biocbld/bbs-2.3-bioc/meat/CoCiteStats.buildbin-libdir
Using auto-selected zip options ''
---------- Making package CoCiteStats ------------
  adding build stamp to DESCRIPTION
  installing NAMESPACE file and metadata
  installing R files
  preparing package CoCiteStats for lazy loading
Loading required package: org.Hs.eg.db
Loading required package: AnnotationDbi
Loading required package: Biobase
Loading required package: tools
Welcome to Bioconductor
  Vignettes contain introductory material. To view, type
  'openVignette()'. To cite Bioconductor, see
  'citation("Biobase")' and for packages 'citation(pkgname)'.
Loading required package: DBI
  installing man source files
  installing indices
  installing help
 >>> Building/Updating help pages for package 'CoCiteStats'
     Formats: text html latex example chm 
  actorAdjTable                     text    html    latex   example chm
  gene.gene.statistic               text    html    latex   example chm
Note: removing empty section \details in file 'gene.geneslist.sig.Rd'
Note: removing empty section \details in file 'gene.geneslist.sig.Rd'
  gene.geneslist.sig                text    html    latex   example chm
Note: removing empty section \details in file 'gene.geneslist.statistic.Rd'
Note: removing empty section \details in file 'gene.geneslist.statistic.Rd'
  gene.geneslist.statistic          text    html    latex   example chm
  paperLen                          text    html    latex   example chm
  twTStats                          text    html    latex   example chm
  twowayTable                       text    html    latex   example chm
Microsoft HTML Help Compiler 4.74.8702
Compiling e:\biocbld\bbs-2.3-bioc\meat\R.INSTALL.5356\CoCiteStats\chm\CoCiteStats.chm
Compile time: 0 minutes, 0 seconds
8	Topics
30	Local links
0	Internet links
1	Graphic
Created e:\biocbld\bbs-2.3-bioc\meat\R.INSTALL.5356\CoCiteStats\chm\CoCiteStats.chm, 24,360 bytes
Compression decreased file by 2,048 bytes.
  adding MD5 sums
packaged installation of package 'CoCiteStats' as CoCiteStats_1.14.0.zip
* DONE (CoCiteStats)