| CORREP 1.8.0 Dongxiao Zhu
 
 | Bioconductor Changelog |  | Snapshot Date: 2009-04-18 11:27:48 -0700 (Sat, 18 Apr 2009) |  | URL: https://hedgehog.fhcrc.org/bioconductor/branches/RELEASE_2_3/madman/Rpacks/CORREP |  | Last Changed Rev: 34811 / Revision: 38965 |  | Last Changed Date: 2008-10-21 15:32:58 -0700 (Tue, 21 Oct 2008) | 
 | wilson2 | Linux (openSUSE 11.1) / x86_64 | OK | OK |  | 
| liverpool | Windows Server 2003 R2 (32-bit) / x64 | OK | OK | [ OK ] | 
| pitt | Mac OS X Tiger (10.4.11) / i386 | OK | OK | OK | 
| pelham | Mac OS X Leopard (10.5.6) / i386 | OK | OK | OK | 
installing R.css in E:/biocbld/bbs-2.3-bioc/meat/CORREP.buildbin-libdir
Using auto-selected zip options ''
---------- Making package CORREP ------------
  adding build stamp to DESCRIPTION
  installing R files
  installing inst files
  installing data files
  preparing package CORREP for lazy loading
Loading required package: e1071
Loading required package: class
  installing man source files
  installing indices
Warning in readLines(f[1]) :
  incomplete final line found on 'E:/biocbld/bbs-2.3-bioc/meat/R.INSTALL.4584/CORREP/inst/doc/CORREP.Rnw'
  not zipping data
  installing help
 >>> Building/Updating help pages for package 'CORREP'
     Formats: text html latex example chm 
Note: removing empty section \examples in file 'CORREP-package.Rd'
Note: removing empty section \examples in file 'CORREP-package.Rd'
  CORREP-package                    text    html    latex           chm
  cor.LRtest                        text    html    latex   example chm
  cor.LRtest.std                    text    html    latex   example chm
  cor.balance                       text    html    latex   example chm
  cor.bootci                        text    html    latex   example chm
  cor.unbalance                     text    html    latex   example chm
  gal_all                           text    html    latex   example chm
  permutest                         text    html    latex   example chm
  true.member                       text    html    latex   example chm
Microsoft HTML Help Compiler 4.74.8702
Compiling e:\biocbld\bbs-2.3-bioc\meat\R.INSTALL.4584\CORREP\chm\CORREP.chm
Compile time: 0 minutes, 0 seconds
10	Topics
30	Local links
0	Internet links
1	Graphic
Created e:\biocbld\bbs-2.3-bioc\meat\R.INSTALL.4584\CORREP\chm\CORREP.chm, 28,919 bytes
Compression decreased file by 11,812 bytes.
  adding MD5 sums
packaged installation of package 'CORREP' as CORREP_1.8.0.zip
* DONE (CORREP)