| BAC 1.2.0 Raphael Gottardo
 
 | Bioconductor Changelog |  | Snapshot Date: 2009-04-18 11:27:48 -0700 (Sat, 18 Apr 2009) |  | URL: https://hedgehog.fhcrc.org/bioconductor/branches/RELEASE_2_3/madman/Rpacks/BAC |  | Last Changed Rev: 34811 / Revision: 38965 |  | Last Changed Date: 2008-10-21 15:32:58 -0700 (Tue, 21 Oct 2008) | 
 | wilson2 | Linux (openSUSE 11.1) / x86_64 | OK | OK |  | 
| liverpool | Windows Server 2003 R2 (32-bit) / x64 | [ OK ] | OK | OK | 
| pitt | Mac OS X Tiger (10.4.11) / i386 | OK | OK | OK | 
| pelham | Mac OS X Leopard (10.5.6) / i386 | OK | OK | OK | 
* checking for file 'BAC/DESCRIPTION' ... OK
* preparing 'BAC':
* checking DESCRIPTION meta-information ... OK
* cleaning src
* installing the package to re-build vignettes
installing R.css in E:/biocbld/bbs-2.3-bioc/tmpdir/Rinst93251943
---------- Making package BAC ------------
  adding build stamp to DESCRIPTION
  installing NAMESPACE file and metadata
  making DLL ...
making BAC.d from BAC.c
making util.d from util.c
gcc  -std=gnu99  -Ie:/biocbld/bbs-2.3-bioc/R/include     -O3 -Wall  -c BAC.c -o BAC.o
gcc  -std=gnu99  -Ie:/biocbld/bbs-2.3-bioc/R/include     -O3 -Wall  -c util.c -o util.o
windres --preprocessor="gcc -E -xc -DRC_INVOKED" -I e:/biocbld/bbs-2.3-bioc/R/include  -i BAC_res.rc -o BAC_res.o
gcc  -std=gnu99  -shared -s  -o BAC.dll BAC.def BAC.o util.o BAC_res.o  -Le:/biocbld/bbs-2.3-bioc/R/bin    -lR
  ... DLL made
  installing DLL
  installing R files
  installing inst files
  installing data files
  preparing package BAC for lazy loading
  installing man source files
  installing indices
  not zipping data
  installing help
 >>> Building/Updating help pages for package 'BAC'
     Formats: text html latex example chm 
Note: removing empty section \note in file 'BAC.Rd'
Note: removing empty section \note in file 'BAC.Rd'
  BAC                               text    html    latex   example chm
Note: removing empty section \details in file 'CallRegions.Rd'
Note: removing empty section \note in file 'CallRegions.Rd'
Note: removing empty section \details in file 'CallRegions.Rd'
Note: removing empty section \note in file 'CallRegions.Rd'
  CallRegions                       text    html    latex   example chm
  ER                                text    html    latex           chm
Microsoft HTML Help Compiler 4.74.8702
Compiling e:\biocbld\bbs-2.3-bioc\meat\BAC\chm\BAC.chm
Compile time: 0 minutes, 0 seconds
4	Topics
6	Local links
0	Internet links
1	Graphic
Created e:\biocbld\bbs-2.3-bioc\meat\BAC\chm\BAC.chm, 19,948 bytes
Compression increased file by 6,104 bytes.
  adding MD5 sums
* DONE (BAC)
* creating vignettes ... OK
* cleaning src
* removing junk files
* checking for LF line-endings in source and make files
* checking for empty or unneeded directories
* building 'BAC_1.2.0.tar.gz'