| topGO 1.10.1 Adrian Alexa
 
 | Bioconductor Changelog |  | Snapshot Date: 2009-04-18 11:27:48 -0700 (Sat, 18 Apr 2009) |  | URL: https://hedgehog.fhcrc.org/bioconductor/branches/RELEASE_2_3/madman/Rpacks/topGO |  | Last Changed Rev: 35382 / Revision: 38965 |  | Last Changed Date: 2008-11-17 14:19:26 -0800 (Mon, 17 Nov 2008) | 
 | wilson2 | Linux (openSUSE 11.1) / x86_64 | OK | WARNINGS |  | 
| liverpool | Windows Server 2003 R2 (32-bit) / x64 | OK | WARNINGS | OK | 
| pitt | Mac OS X Tiger (10.4.11) / i386 | OK | WARNINGS | OK | 
| pelham | Mac OS X Leopard (10.5.6) / i386 | [ OK ] | WARNINGS | OK |