| timecourse 1.14.0 Yu Chuan Tai
 
 | Bioconductor Changelog |  | Snapshot Date: 2009-04-18 11:27:48 -0700 (Sat, 18 Apr 2009) |  | URL: https://hedgehog.fhcrc.org/bioconductor/branches/RELEASE_2_3/madman/Rpacks/timecourse |  | Last Changed Rev: 34811 / Revision: 38965 |  | Last Changed Date: 2008-10-21 15:32:58 -0700 (Tue, 21 Oct 2008) | 
 | wilson2 | Linux (openSUSE 11.1) / x86_64 | OK | OK |  | 
| liverpool | Windows Server 2003 R2 (32-bit) / x64 | OK | OK | OK | 
| pitt | Mac OS X Tiger (10.4.11) / i386 | OK | OK | OK | 
| pelham | Mac OS X Leopard (10.5.6) / i386 | OK | [ OK ] | OK | 
* checking for working pdflatex ... OK
* using log directory '/Users/biocbuild/bbs-2.3-bioc/meat/timecourse.Rcheck'
* using R version 2.8.1 Patched (2009-03-18 r48200)
* using session charset: ASCII
* checking for file 'timecourse/DESCRIPTION' ... OK
* this is package 'timecourse' version '1.14.0'
* checking package dependencies ... OK
* checking if this is a source package ... OK
* checking whether package 'timecourse' can be installed ... OK
* checking package directory ... OK
* checking for portable file names ... OK
* checking for sufficient/correct file permissions ... OK
* checking DESCRIPTION meta-information ... OK
* checking top-level files ... OK
* checking index information ... OK
* checking package subdirectories ... OK
* checking R files for non-ASCII characters ... OK
* checking R files for syntax errors ... OK
* checking whether the package can be loaded ... OK
* checking whether the package can be loaded with stated dependencies ... OK
* checking for unstated dependencies in R code ... OK
* checking S3 generic/method consistency ... OK
* checking replacement functions ... OK
* checking foreign function calls ... OK
* checking R code for possible problems ... NOTE
mb.2D : <anonymous>: no visible binding for global variable 'n'
mb.2D : <anonymous>: no visible binding for global variable 'T1'
mb.2D : <anonymous>: no visible binding for global variable 'xbar'
mb.2D : <anonymous>: no visible binding for global variable 'modS1'
* checking Rd files ... OK
* checking Rd cross-references ... OK
* checking for missing documentation entries ... OK
* checking for code/documentation mismatches ... OK
* checking Rd \usage sections ... OK
* checking data for non-ASCII characters ... OK
* creating timecourse-Ex.R ... OK
* checking examples ... OK
* checking package vignettes in 'inst/doc' ... OK
* creating timecourse-manual.tex ... OK
* checking timecourse-manual.tex using pdflatex ... OK
 
* Installing *source* package 'timecourse' ...
** R
** data
** inst
** preparing package for lazy loading
Loading required package: limma
Loading required package: MASS
Loading required package: Biobase
Loading required package: tools
Welcome to Bioconductor
  Vignettes contain introductory material. To view, type
  'openVignette()'. To cite Bioconductor, see
  'citation("Biobase")' and for packages 'citation(pkgname)'.
** help
 >>> Building/Updating help pages for package 'timecourse'
     Formats: text html latex example 
  abs2ratio                         text    html    latex
  fruitfly                          text    html    latex
  marrayTC-class                    text    html    latex
  matrix.cov                        text    html    latex
  mb.MANOVA                         text    html    latex   example
  mb.long                           text    html    latex   example
  ot.helmert                        text    html    latex
  plotProfile                       text    html    latex
  univ.func                         text    html    latex
** building package indices ...
* DONE (timecourse)