| rHVDM 1.8.1 Martino Barenco
 
 | Bioconductor Changelog |  | Snapshot Date: 2009-04-18 11:27:48 -0700 (Sat, 18 Apr 2009) |  | URL: https://hedgehog.fhcrc.org/bioconductor/branches/RELEASE_2_3/madman/Rpacks/rHVDM |  | Last Changed Rev: 35715 / Revision: 38965 |  | Last Changed Date: 2008-12-08 09:08:52 -0800 (Mon, 08 Dec 2008) | 
 | wilson2 | Linux (openSUSE 11.1) / x86_64 | OK | OK |  | 
| liverpool | Windows Server 2003 R2 (32-bit) / x64 | OK | OK | OK | 
| pitt | Mac OS X Tiger (10.4.11) / i386 | [ OK ] | OK | OK | 
| pelham | Mac OS X Leopard (10.5.6) / i386 | OK | OK | OK | 
* checking for file 'rHVDM/DESCRIPTION' ... OK
* preparing 'rHVDM':
* checking DESCRIPTION meta-information ... OK
* installing the package to re-build vignettes
* Installing *source* package 'rHVDM' ...
** R
** data
** inst
** preparing package for lazy loading
Loading required package: R2HTML
Loading required package: affy
Loading required package: Biobase
Loading required package: tools
Welcome to Bioconductor
  Vignettes contain introductory material. To view, type
  'openVignette()'. To cite Bioconductor, see
  'citation("Biobase")' and for packages 'citation(pkgname)'.
Loading required package: minpack.lm
This product includes software developed by the University of Chicago, as
Operator of Argonne National Laboratory.
See the LICENSE file distributed with the minpack.lm source code or
http://www.netlib.org/minpack/disclaimer for the full license.
** help
 >>> Building/Updating help pages for package 'rHVDM'
     Formats: text html latex example 
  HVDMcheck                         text    html    latex   example
  HVDMreport                        text    html    latex   example
  estimerrors                       text    html    latex   example
  fitgene                           text    html    latex   example
  fiveGyMAS5                        text    html    latex
  genestoscreen                     text    html    latex
  leastnoisychips                   text    html    latex
  p53traingenes                     text    html    latex
  rHVDMplattforms                   text    html    latex
  screening                         text    html    latex   example
  training                          text    html    latex   example
** building package indices ...
* DONE (rHVDM)
* creating vignettes ... OK
* removing junk files
* checking for LF line-endings in source and make files
* checking for empty or unneeded directories
* building 'rHVDM_1.8.1.tar.gz'