| Back to the "Multiple platform build/check report" | A B C D E F G H I J K L M N O [P] Q R S T U V W X Y Z |
| Package 212/294 | Hostname | OS / Arch | BUILD | CHECK | BUILD BIN | |||||
| plier 1.12.0 Crispin Miller
| wilson2 | Linux (openSUSE 11.1) / x86_64 | OK | OK | ||||||
| liverpool | Windows Server 2003 R2 (32-bit) / x64 | OK | OK | OK | ||||||
| pitt | Mac OS X Tiger (10.4.11) / i386 | [ OK ] | OK | OK | ||||||
| pelham | Mac OS X Leopard (10.5.6) / i386 | OK | OK | OK |
| Package: plier |
| Version: 1.12.0 |
| Command: /Library/Frameworks/R.framework/Versions/2.8/Resources/bin/R CMD build plier |
| StartedAt: 2009-04-18 14:22:07 -0700 (Sat, 18 Apr 2009) |
| EndedAt: 2009-04-18 14:22:08 -0700 (Sat, 18 Apr 2009) |
| EllapsedTime: 0.8 seconds |
| RetCode: 0 |
| Status: OK |
| PackageFile: plier_1.12.0.tar.gz |
| PackageFileSize: 20.2 KiB |
* checking for file 'plier/DESCRIPTION' ... OK * preparing 'plier': * checking DESCRIPTION meta-information ... OK * cleaning src * removing junk files * checking for LF line-endings in source and make files * checking for empty or unneeded directories * building 'plier_1.12.0.tar.gz'