| nudge 1.8.0 N. Dean
 
 | Bioconductor Changelog |  | Snapshot Date: 2009-04-18 11:27:48 -0700 (Sat, 18 Apr 2009) |  | URL: https://hedgehog.fhcrc.org/bioconductor/branches/RELEASE_2_3/madman/Rpacks/nudge |  | Last Changed Rev: 34811 / Revision: 38965 |  | Last Changed Date: 2008-10-21 15:32:58 -0700 (Tue, 21 Oct 2008) | 
 | wilson2 | Linux (openSUSE 11.1) / x86_64 | OK | OK |  | 
| liverpool | Windows Server 2003 R2 (32-bit) / x64 | OK | OK | OK | 
| pitt | Mac OS X Tiger (10.4.11) / i386 | OK | OK | OK | 
| pelham | Mac OS X Leopard (10.5.6) / i386 | [ OK ] | OK | OK | 
* checking for file 'nudge/DESCRIPTION' ... OK
* preparing 'nudge':
* checking DESCRIPTION meta-information ... OK
* installing the package to re-build vignettes
* Installing *source* package 'nudge' ...
** R
** data
** inst
** preparing package for lazy loading
** help
 >>> Building/Updating help pages for package 'nudge'
     Formats: text html latex example 
  hiv                               text    html    latex
  like                              text    html    latex
  neg.contr                         text    html    latex
  norm1a                            text    html    latex   example
  norm1b                            text    html    latex   example
  norm1c                            text    html    latex   example
  norm1d                            text    html    latex   example
  norm2c                            text    html    latex   example
  norm2d                            text    html    latex   example
  nudge1                            text    html    latex   example
  nudge2                            text    html    latex   example
  pos.contr                         text    html    latex
** building package indices ...
* DONE (nudge)
* creating vignettes ... OK
* removing junk files
* checking for LF line-endings in source and make files
* checking for empty or unneeded directories
* building 'nudge_1.8.0.tar.gz'