hopach 2.2.0 Katherine S. Pollard
 | Bioconductor Changelog |  | Snapshot Date: 2009-04-18 11:27:48 -0700 (Sat, 18 Apr 2009) |  | URL: https://hedgehog.fhcrc.org/bioconductor/branches/RELEASE_2_3/madman/Rpacks/hopach |  | Last Changed Rev: 34811 / Revision: 38965 |  | Last Changed Date: 2008-10-21 15:32:58 -0700 (Tue, 21 Oct 2008) |  
  | wilson2  | Linux (openSUSE 11.1) / x86_64  | [ OK ] |  OK  |  | 
| liverpool  | Windows Server 2003 R2 (32-bit) / x64  |  OK  |  OK  |  OK  | 
| pitt  | Mac OS X Tiger (10.4.11) / i386  |  OK  |  OK  |  OK  | 
| pelham  | Mac OS X Leopard (10.5.6) / i386  |  OK  |  OK  |  OK  | 
* checking for file 'hopach/DESCRIPTION' ... OK
* preparing 'hopach':
* checking DESCRIPTION meta-information ... OK
* cleaning src
* installing the package to re-build vignettes
* Installing *source* package 'hopach' ...
** libs
gcc -std=gnu99 -I/home/biocbuild/bbs-2.3-bioc/R/include  -I/usr/local/include    -fpic  -g -O2 -Wall -c hdist.c -o hdist.o
gcc -std=gnu99 -I/home/biocbuild/bbs-2.3-bioc/R/include  -I/usr/local/include    -fpic  -g -O2 -Wall -c Rdistances.c -o Rdistances.o
gcc -std=gnu99 -shared -L/usr/local/lib64 -o hopach.so hdist.o Rdistances.o   -L/home/biocbuild/bbs-2.3-bioc/R/lib -lR
** R
** data
** inst
** preparing package for lazy loading
Loading required package: cluster
Loading required package: Biobase
Loading required package: tools
Welcome to Bioconductor
  Vignettes contain introductory material. To view, type
  'openVignette()'. To cite Bioconductor, see
  'citation("Biobase")' and for packages 'citation(pkgname)'.
Creating a new generic function for "as.vector" in "hopach"
Creating a generic function from function "as.hdist"
Creating a new generic function for "as.matrix" in "hopach"
** help
 >>> Building/Updating help pages for package 'hopach'
     Formats: text html latex example 
  boot2fuzzy                        text    html    latex   example
  bootplot                          text    html    latex   example
  bootstrap                         text    html    latex   example
  correlationordering               text    html    latex   example
  disscosangle                      text    html    latex   example
  distancematrix                    text    html    latex   example
  dplot                             text    html    latex   example
  golub                             text    html    latex
  hdist-class                       text    html    latex   example
  hopach                            text    html    latex   example
  hopach.internal                   text    html    latex   example
  hopach2tree                       text    html    latex   example
  labelstomss                       text    html    latex   example
  makeoutput                        text    html    latex   example
  prune                             text    html    latex   example
** building package indices ...
* DONE (hopach)
* creating vignettes ... OK
* cleaning src
* removing junk files
* checking for LF line-endings in source and make files
* checking for empty or unneeded directories
* building 'hopach_2.2.0.tar.gz'