| gcrma 2.14.1 Z. Wu
 
 | Bioconductor Changelog |  | Snapshot Date: 2009-04-18 11:27:48 -0700 (Sat, 18 Apr 2009) |  | URL: https://hedgehog.fhcrc.org/bioconductor/branches/RELEASE_2_3/madman/Rpacks/gcrma |  | Last Changed Rev: 34994 / Revision: 38965 |  | Last Changed Date: 2008-10-30 10:36:33 -0700 (Thu, 30 Oct 2008) | 
 | wilson2 | Linux (openSUSE 11.1) / x86_64 | OK | OK |  | 
| liverpool | Windows Server 2003 R2 (32-bit) / x64 | OK | OK | OK | 
| pitt | Mac OS X Tiger (10.4.11) / i386 | OK | OK | [ OK ] | 
| pelham | Mac OS X Leopard (10.5.6) / i386 | OK | OK | OK | 
                INSTALLATION WITH 'R CMD INSTALL --library=gcrma.buildbin-libdir gcrma_2.14.1.tar.gz'
* Installing *source* package 'gcrma' ...
** libs
** arch - i386
gcc -arch i386 -std=gnu99 -I/Library/Frameworks/R.framework/Versions/2.8/Resources/include -I/Library/Frameworks/R.framework/Versions/2.8/Resources/include/i386  -I/usr/local/include    -fPIC  -g -O2 -c baseProfile.c -o baseProfile.o
gcc -arch i386 -std=gnu99 -I/Library/Frameworks/R.framework/Versions/2.8/Resources/include -I/Library/Frameworks/R.framework/Versions/2.8/Resources/include/i386  -I/usr/local/include    -fPIC  -g -O2 -c computeAffinities.c -o computeAffinities.o
gcc -arch i386 -std=gnu99 -I/Library/Frameworks/R.framework/Versions/2.8/Resources/include -I/Library/Frameworks/R.framework/Versions/2.8/Resources/include/i386  -I/usr/local/include    -fPIC  -g -O2 -c postmean.c -o postmean.o
gcc -arch i386 -std=gnu99 -dynamiclib -Wl,-headerpad_max_install_names -mmacosx-version-min=10.4 -undefined dynamic_lookup -single_module -multiply_defined suppress -L/usr/local/lib -o gcrma.so baseProfile.o computeAffinities.o postmean.o   -F/Library/Frameworks/R.framework/.. -framework R -Wl,-framework -Wl,CoreFoundation
** arch - ppc
gcc -arch ppc -std=gnu99 -I/Library/Frameworks/R.framework/Versions/2.8/Resources/include -I/Library/Frameworks/R.framework/Versions/2.8/Resources/include/ppc  -I/usr/local/include    -fPIC  -g -O2 -c baseProfile.c -o baseProfile.o
gcc -arch ppc -std=gnu99 -I/Library/Frameworks/R.framework/Versions/2.8/Resources/include -I/Library/Frameworks/R.framework/Versions/2.8/Resources/include/ppc  -I/usr/local/include    -fPIC  -g -O2 -c computeAffinities.c -o computeAffinities.o
gcc -arch ppc -std=gnu99 -I/Library/Frameworks/R.framework/Versions/2.8/Resources/include -I/Library/Frameworks/R.framework/Versions/2.8/Resources/include/ppc  -I/usr/local/include    -fPIC  -g -O2 -c postmean.c -o postmean.o
gcc -arch ppc -std=gnu99 -dynamiclib -Wl,-headerpad_max_install_names -mmacosx-version-min=10.4 -undefined dynamic_lookup -single_module -multiply_defined suppress -L/usr/local/lib -o gcrma.so baseProfile.o computeAffinities.o postmean.o   -F/Library/Frameworks/R.framework/.. -framework R -Wl,-framework -Wl,CoreFoundation
** R
** data
** inst
** preparing package for lazy loading
Loading required package: Biobase
Loading required package: tools
Welcome to Bioconductor
  Vignettes contain introductory material. To view, type
  'openVignette()'. To cite Bioconductor, see
  'citation("Biobase")' and for packages 'citation(pkgname)'.
Loading required package: affy
Loading required package: matchprobes
Loading required package: splines
** help
 >>> Building/Updating help pages for package 'gcrma'
     Formats: text html latex example 
  affinity.spline.coefs             text    html    latex
  bg.adjust.affinities              text    html    latex
  bg.adjust.gcrma                   text    html    latex   example
  bg.parameters.ns                  text    html    latex
  compute.affinities                text    html    latex
  fast.bkg                          text    html    latex
  gcrma                             text    html    latex   example
Note: removing empty section \examples in file 'gcrma.engine.Rd'
  gcrma.engine                      text    html    latex
Note: removing empty section \examples in file 'gcrma.engine2.Rd'
  gcrma.engine2                     text    html    latex
  getCDF                            text    html    latex
Note: removing empty section \examples in file 'justGCRMA.Rd'
  justGCRMA                         text    html    latex
** building package indices ...
* DONE (gcrma)