gaga 1.2.0 David Rossell
 | Bioconductor Changelog |  | Snapshot Date: 2009-04-18 11:27:48 -0700 (Sat, 18 Apr 2009) |  | URL: https://hedgehog.fhcrc.org/bioconductor/branches/RELEASE_2_3/madman/Rpacks/gaga |  | Last Changed Rev: 34811 / Revision: 38965 |  | Last Changed Date: 2008-10-21 15:32:58 -0700 (Tue, 21 Oct 2008) |  
  | wilson2  | Linux (openSUSE 11.1) / x86_64  |  OK  |  OK  |  | 
| liverpool  | Windows Server 2003 R2 (32-bit) / x64  |  OK  |  OK  |  OK  | 
| pitt  | Mac OS X Tiger (10.4.11) / i386  |  OK  |  OK  | [ OK ] | 
| pelham  | Mac OS X Leopard (10.5.6) / i386  |  OK  |  OK  |  OK  | 
                INSTALLATION WITH 'R CMD INSTALL --library=gaga.buildbin-libdir gaga_1.2.0.tar.gz'
* Installing *source* package 'gaga' ...
** libs
** arch - i386
gcc -arch i386 -std=gnu99 -I/Library/Frameworks/R.framework/Versions/2.8/Resources/include -I/Library/Frameworks/R.framework/Versions/2.8/Resources/include/i386  -I/usr/local/include    -fPIC  -g -O2 -c cseqdesma.c -o cseqdesma.o
gcc -arch i386 -std=gnu99 -I/Library/Frameworks/R.framework/Versions/2.8/Resources/include -I/Library/Frameworks/R.framework/Versions/2.8/Resources/include/i386  -I/usr/local/include    -fPIC  -g -O2 -c cstat.c -o cstat.o
gcc -arch i386 -std=gnu99 -dynamiclib -Wl,-headerpad_max_install_names -mmacosx-version-min=10.4 -undefined dynamic_lookup -single_module -multiply_defined suppress -L/usr/local/lib -o gaga.so cseqdesma.o cstat.o   -F/Library/Frameworks/R.framework/.. -framework R -Wl,-framework -Wl,CoreFoundation
** arch - ppc
gcc -arch ppc -std=gnu99 -I/Library/Frameworks/R.framework/Versions/2.8/Resources/include -I/Library/Frameworks/R.framework/Versions/2.8/Resources/include/ppc  -I/usr/local/include    -fPIC  -g -O2 -c cseqdesma.c -o cseqdesma.o
gcc -arch ppc -std=gnu99 -I/Library/Frameworks/R.framework/Versions/2.8/Resources/include -I/Library/Frameworks/R.framework/Versions/2.8/Resources/include/ppc  -I/usr/local/include    -fPIC  -g -O2 -c cstat.c -o cstat.o
gcc -arch ppc -std=gnu99 -dynamiclib -Wl,-headerpad_max_install_names -mmacosx-version-min=10.4 -undefined dynamic_lookup -single_module -multiply_defined suppress -L/usr/local/lib -o gaga.so cseqdesma.o cstat.o   -F/Library/Frameworks/R.framework/.. -framework R -Wl,-framework -Wl,CoreFoundation
** R
** inst
** help
 >>> Building/Updating help pages for package 'gaga'
     Formats: text html latex example 
Note: removing empty section \examples in file 'checkfit.Rd'
  checkfit                          text    html    latex
  classpred                         text    html    latex   example
Note: removing empty section \examples in file 'dcgamma.Rd'
  dcgamma                           text    html    latex
  findgenes                         text    html    latex   example
  fitGG                             text    html    latex   example
  geneclus                          text    html    latex   example
Note: removing empty section \examples in file 'getpar.Rd'
  getpar                            text    html    latex
  parest                            text    html    latex   example
Note: removing empty section \examples in file 'posmeansGG.Rd'
  posmeansGG                        text    html    latex
Note: removing empty section \examples in file 'powclasspred.Rd'
  powclasspred                      text    html    latex
Note: removing empty section \details in file 'print.gagaclus.Rd'
  print.gagaclus                    text    html    latex
  print.gagafit                     text    html    latex
Note: removing empty section \details in file 'print.gagahyp.Rd'
  print.gagahyp                     text    html    latex
  simGG                             text    html    latex   example
Note: removing empty section \examples in file 'simnewsamples.Rd'
  simnewsamples                     text    html    latex
** building package indices ...
* DONE (gaga)