| copa 1.10.0 James W. MacDonald
 
 | Bioconductor Changelog |  | Snapshot Date: 2009-04-18 11:27:48 -0700 (Sat, 18 Apr 2009) |  | URL: https://hedgehog.fhcrc.org/bioconductor/branches/RELEASE_2_3/madman/Rpacks/copa |  | Last Changed Rev: 34811 / Revision: 38965 |  | Last Changed Date: 2008-10-21 15:32:58 -0700 (Tue, 21 Oct 2008) | 
 | wilson2 | Linux (openSUSE 11.1) / x86_64 | OK | OK |  | 
| liverpool | Windows Server 2003 R2 (32-bit) / x64 | OK | OK | OK | 
| pitt | Mac OS X Tiger (10.4.11) / i386 | [ OK ] | OK | OK | 
| pelham | Mac OS X Leopard (10.5.6) / i386 | OK | OK | OK | 
* checking for file 'copa/DESCRIPTION' ... OK
* preparing 'copa':
* checking DESCRIPTION meta-information ... OK
* cleaning src
* installing the package to re-build vignettes
* Installing *source* package 'copa' ...
** libs
** arch - i386
gcc -arch i386 -std=gnu99 -I/Library/Frameworks/R.framework/Versions/2.8/Resources/include -I/Library/Frameworks/R.framework/Versions/2.8/Resources/include/i386  -I/usr/local/include    -fPIC  -g -O2 -c copa.c -o copa.o
gcc -arch i386 -std=gnu99 -dynamiclib -Wl,-headerpad_max_install_names -mmacosx-version-min=10.4 -undefined dynamic_lookup -single_module -multiply_defined suppress -L/usr/local/lib -o copa.so copa.o   -F/Library/Frameworks/R.framework/.. -framework R -Wl,-framework -Wl,CoreFoundation
** arch - ppc
gcc -arch ppc -std=gnu99 -I/Library/Frameworks/R.framework/Versions/2.8/Resources/include -I/Library/Frameworks/R.framework/Versions/2.8/Resources/include/ppc  -I/usr/local/include    -fPIC  -g -O2 -c copa.c -o copa.o
gcc -arch ppc -std=gnu99 -dynamiclib -Wl,-headerpad_max_install_names -mmacosx-version-min=10.4 -undefined dynamic_lookup -single_module -multiply_defined suppress -L/usr/local/lib -o copa.so copa.o   -F/Library/Frameworks/R.framework/.. -framework R -Wl,-framework -Wl,CoreFoundation
** R
** inst
** preparing package for lazy loading
Loading required package: Biobase
Loading required package: tools
Welcome to Bioconductor
  Vignettes contain introductory material. To view, type
  'openVignette()'. To cite Bioconductor, see
  'citation("Biobase")' and for packages 'citation(pkgname)'.
** help
 >>> Building/Updating help pages for package 'copa'
     Formats: text html latex example 
  copa                              text    html    latex   example
  copa.package                      text    html    latex
  copaFilter                        text    html    latex
  copaPerm                          text    html    latex
  copaTable                         text    html    latex   example
  getans                            text    html    latex
  pSum                              text    html    latex
  perm.mat                          text    html    latex
  plotCopa                          text    html    latex   example
  scatterPlotCopa                   text    html    latex   example
  summaryCopa                       text    html    latex   example
** building package indices ...
* DONE (copa)
* creating vignettes ... OK
* cleaning src
* removing junk files
* checking for LF line-endings in source and make files
* checking for empty or unneeded directories
* building 'copa_1.10.0.tar.gz'