| LMGene 1.12.0 John Tillinghast
 
 | Bioconductor Changelog |  | Snapshot Date: 2009-04-18 11:27:48 -0700 (Sat, 18 Apr 2009) |  | URL: https://hedgehog.fhcrc.org/bioconductor/branches/RELEASE_2_3/madman/Rpacks/LMGene |  | Last Changed Rev: 34811 / Revision: 38965 |  | Last Changed Date: 2008-10-21 15:32:58 -0700 (Tue, 21 Oct 2008) | 
 | wilson2 | Linux (openSUSE 11.1) / x86_64 | OK | OK |  | 
| liverpool | Windows Server 2003 R2 (32-bit) / x64 | OK | OK | OK | 
| pitt | Mac OS X Tiger (10.4.11) / i386 | OK | OK | [ OK ] | 
| pelham | Mac OS X Leopard (10.5.6) / i386 | OK | OK | OK | 
                INSTALLATION WITH 'R CMD INSTALL --library=LMGene.buildbin-libdir LMGene_1.12.0.tar.gz'
* Installing *source* package 'LMGene' ...
** R
** data
** inst
** preparing package for lazy loading
Loading required package: Biobase
Loading required package: tools
Welcome to Bioconductor
  Vignettes contain introductory material. To view, type
  'openVignette()'. To cite Bioconductor, see
  'citation("Biobase")' and for packages 'citation(pkgname)'.
Loading required package: multtest
Loading required package: survival
Loading required package: splines
** help
 >>> Building/Updating help pages for package 'LMGene'
     Formats: text html latex example 
Note: removing empty section \details in file 'GetLMObj.Rd'
Note: removing empty section \note in file 'GetLMObj.Rd'
Note: removing empty section \references in file 'GetLMObj.Rd'
Note: removing empty section \seealso in file 'GetLMObj.Rd'
  GetLMObj                          text    html    latex   example
  LMGene                            text    html    latex   example
  genediff                          text    html    latex   example
  glog                              text    html    latex   example
  jggrad2                           text    html    latex   example
  jglog                             text    html    latex   example
  lnorm                             text    html    latex   example
Note: removing empty section \details in file 'lnormeS.Rd'
Note: removing empty section \note in file 'lnormeS.Rd'
  lnormeS                           text    html    latex   example
Note: removing empty section \seealso in file 'mlm2lm.Rd'
  mlm2lm                            text    html    latex   example
Note: removing empty section \seealso in file 'msa.Rd'
  msa                               text    html    latex   example
  msecalc                           text    html    latex   example
  msecalcmult                       text    html    latex   example
  neweS                             text    html    latex   example
  norm                              text    html    latex   example
Note: removing empty section \note in file 'psmeans.Rd'
Note: removing empty section \references in file 'psmeans.Rd'
Note: removing empty section \seealso in file 'psmeans.Rd'
  psmeans                           text    html    latex   example
  pvadjust                          text    html    latex   example
  rowaov                            text    html    latex   example
  rowlist                           text    html    latex   example
  sample.eS                         text    html    latex   example
Note: removing empty section \details in file 'sample.ind.Rd'
  sample.ind                        text    html    latex   example
  sample.mat                        text    html    latex   example
  tranest                           text    html    latex   example
  tranest2                          text    html    latex   example
  tranestmult                       text    html    latex   example
Note: removing empty section \details in file 'transeS.Rd'
Note: removing empty section \note in file 'transeS.Rd'
Note: removing empty section \references in file 'transeS.Rd'
Note: removing empty section \seealso in file 'transeS.Rd'
  transeS                           text    html    latex   example
  vlist                             text    html    latex   example
** building package indices ...
* DONE (LMGene)