| KCsmart 1.6.0 Jorma de Ronde
 
 | Bioconductor Changelog |  | Snapshot Date: 2009-04-18 11:27:48 -0700 (Sat, 18 Apr 2009) |  | URL: https://hedgehog.fhcrc.org/bioconductor/branches/RELEASE_2_3/madman/Rpacks/KCsmart |  | Last Changed Rev: 34811 / Revision: 38965 |  | Last Changed Date: 2008-10-21 15:32:58 -0700 (Tue, 21 Oct 2008) | 
 | wilson2 | Linux (openSUSE 11.1) / x86_64 | OK | OK |  | 
| liverpool | Windows Server 2003 R2 (32-bit) / x64 | OK | OK | OK | 
| pitt | Mac OS X Tiger (10.4.11) / i386 | OK | OK | OK | 
| pelham | Mac OS X Leopard (10.5.6) / i386 | [ OK ] | OK | OK | 
* checking for file 'KCsmart/DESCRIPTION' ... OK
* preparing 'KCsmart':
* checking DESCRIPTION meta-information ... OK
* installing the package to re-build vignettes
* Installing *source* package 'KCsmart' ...
** R
** data
** inst
** preparing package for lazy loading
Creating a new generic function for "plot" in "KCsmart"
Creating a new generic function for "sort" in "KCsmart"
Creating a new generic function for "unlist" in "KCsmart"
Creating a new generic function for "write.table" in "KCsmart"
** help
 >>> Building/Updating help pages for package 'KCsmart'
     Formats: text html latex example 
  KCData-class                      text    html    latex
  KCsmart-package                   text    html    latex   example
  KcghData-class                    text    html    latex
  KcghDataMirror-class              text    html    latex
  KcghDataSplit-class               text    html    latex
  KcghDataSum-class                 text    html    latex
Note: removing empty section \note in file 'calcSpm.Rd'
Note: removing empty section \references in file 'calcSpm.Rd'
  calcSpm                           text    html    latex   example
  findSigLevelFdr                   text    html    latex   example
  findSigLevelTrad                  text    html    latex   example
Note: removing empty section \note in file 'getSigSegments.Rd'
  getSigSegments                    text    html    latex   example
  hsMirrorLocs                      text    html    latex
Note: removing empty section \references in file 'hsSampleData.Rd'
  hsSampleData                      text    html    latex
Note: removing empty section \note in file 'idPoints.Rd'
  idPoints                          text    html    latex   example
  mmMirrorLocs                      text    html    latex
Note: removing empty section \details in file 'plot.Rd'
Note: removing empty section \note in file 'plot.Rd'
  plot                              text    html    latex   example
Note: removing empty section \note in file 'plotScaleSpace.Rd'
  plotScaleSpace                    text    html    latex   example
  probeAnnotation-class             text    html    latex
  samplePointMatrix-class           text    html    latex   example
  sigSegments-class                 text    html    latex   example
Note: removing empty section \value in file 'write.table.Rd'
Note: removing empty section \note in file 'write.table.Rd'
  write.table                       text    html    latex   example
** building package indices ...
* DONE (KCsmart)
* creating vignettes ... OK
* removing junk files
* checking for LF line-endings in source and make files
* checking for empty or unneeded directories
* building 'KCsmart_1.6.0.tar.gz'