Icens 1.14.0 Biocore Team c/o BioC user list
 | Bioconductor Changelog |  | Snapshot Date: 2009-04-18 11:27:48 -0700 (Sat, 18 Apr 2009) |  | URL: https://hedgehog.fhcrc.org/bioconductor/branches/RELEASE_2_3/madman/Rpacks/Icens |  | Last Changed Rev: 34811 / Revision: 38965 |  | Last Changed Date: 2008-10-21 15:32:58 -0700 (Tue, 21 Oct 2008) |  
  | wilson2  | Linux (openSUSE 11.1) / x86_64  |  OK  |  OK  |  | 
| liverpool  | Windows Server 2003 R2 (32-bit) / x64  |  OK  |  OK  |  OK  | 
| pitt  | Mac OS X Tiger (10.4.11) / i386  |  OK  |  OK  | [ OK ] | 
| pelham  | Mac OS X Leopard (10.5.6) / i386  |  OK  |  OK  |  OK  | 
                INSTALLATION WITH 'R CMD INSTALL --library=Icens.buildbin-libdir Icens_1.14.0.tar.gz'
* Installing *source* package 'Icens' ...
** R
** data
** preparing package for lazy loading
Loading required package: survival
Loading required package: splines
** help
 >>> Building/Updating help pages for package 'Icens'
     Formats: text html latex example 
  BVcliques                         text    html    latex   example
  BVclmat                           text    html    latex   example
  BVsupport                         text    html    latex   example
  Bisect                            text    html    latex
  EM                                text    html    latex   example
  EMICM                             text    html    latex   example
  ISDM                              text    html    latex   example
  Icens-internal                    text    html    latex
  MLEintvl                          text    html    latex   example
  Maclist                           text    html    latex   example
  Macmat                            text    html    latex   example
  PGM                               text    html    latex   example
  PMGA                              text    html    latex
  Plotboxes                         text    html    latex   example
  VEM                               text    html    latex   example
  cmv                               text    html    latex   example
  cosmesis                          text    html    latex   example
  hiv                               text    html    latex   example
  icsurv                            text    html    latex
  plot.icsurv                       text    html    latex   example
  pruitt                            text    html    latex   example
** building package indices ...
* DONE (Icens)