GeneRfold 1.0.0 Antoine Lucas
 | Bioconductor Changelog |  | Snapshot Date: 2009-04-18 11:27:48 -0700 (Sat, 18 Apr 2009) |  | URL: https://hedgehog.fhcrc.org/bioconductor/branches/RELEASE_2_3/madman/Rpacks/GeneRfold |  | Last Changed Rev: 34811 / Revision: 38965 |  | Last Changed Date: 2008-10-21 15:32:58 -0700 (Tue, 21 Oct 2008) |  
  | wilson2  | Linux (openSUSE 11.1) / x86_64  |  OK  |  OK  |  | 
| liverpool  | Windows Server 2003 R2 (32-bit) / x64  | N O T   S U P P O R T E D | 
| pitt  | Mac OS X Tiger (10.4.11) / i386  |  OK  |  OK  | [ OK ] | 
| pelham  | Mac OS X Leopard (10.5.6) / i386  |  OK  |  OK  |  OK  | 
                INSTALLATION WITH 'R CMD INSTALL --library=GeneRfold.buildbin-libdir GeneRfold_1.0.0.tar.gz'
* Installing *source* package 'GeneRfold' ...
checking for gcc... gcc
checking for C compiler default output file name... a.out
checking whether the C compiler works... yes
checking whether we are cross compiling... no
checking for suffix of executables... 
checking for suffix of object files... o
checking whether we are using the GNU C compiler... yes
checking whether gcc accepts -g... yes
checking for gcc option to accept ANSI C... none needed
checking for main in -lRNA... yes
configure: creating ./config.status
config.status: creating src/Makevars
** libs
** arch - i386
gcc -arch i386 -std=gnu99 -I/Library/Frameworks/R.framework/Versions/2.8/Resources/include -I/Library/Frameworks/R.framework/Versions/2.8/Resources/include/i386 -I/usr/local/include/  -fPIC -Wno-conversion -I/usr/local/include    -fPIC  -g -O2 -c viennaR.c -o viennaR.o
gcc -arch i386 -std=gnu99 -dynamiclib -Wl,-headerpad_max_install_names -mmacosx-version-min=10.4 -undefined dynamic_lookup -single_module -multiply_defined suppress -L/usr/local/lib -o GeneRfold.so viennaR.o -L/usr/local/lib/ -lRNA -fPIC   -F/Library/Frameworks/R.framework/.. -framework R -Wl,-framework -Wl,CoreFoundation
** R
** inst
** preparing package for lazy loading
Loading required package: GeneR
Attaching package: 'GeneR'
	The following object(s) are masked from package:utils :
	 relist 
** help
 >>> Building/Updating help pages for package 'GeneRfold'
     Formats: text html latex example 
  fold                              text    html    latex   example
  rnaplot                           text    html    latex   example
** building package indices ...
* DONE (GeneRfold)
                INSTALLATION OF ppc LIBS WITH 'R_ARCH=/ppc R CMD INSTALL --library=GeneRfold.buildbin-libdir --libs-only GeneRfold_1.0.0.tar.gz'
* Installing *source* package 'GeneRfold' ...
checking for gcc... gcc
checking for C compiler default output file name... a.out
checking whether the C compiler works... yes
checking whether we are cross compiling... no
checking for suffix of executables... 
checking for suffix of object files... o
checking whether we are using the GNU C compiler... yes
checking whether gcc accepts -g... yes
checking for gcc option to accept ANSI C... none needed
checking for main in -lRNA... yes
configure: creating ./config.status
config.status: creating src/Makevars
** libs
** arch - ppc
gcc -arch ppc -std=gnu99 -I/Library/Frameworks/R.framework/Versions/2.8/Resources/include -I/Library/Frameworks/R.framework/Versions/2.8/Resources/include/ppc -I/usr/local/include/  -fPIC -Wno-conversion -I/usr/local/include    -fPIC  -g -O2 -c viennaR.c -o viennaR.o
gcc -arch ppc -std=gnu99 -dynamiclib -Wl,-headerpad_max_install_names -mmacosx-version-min=10.4 -undefined dynamic_lookup -single_module -multiply_defined suppress -L/usr/local/lib -o GeneRfold.so viennaR.o -L/usr/local/lib/ -lRNA -fPIC   -F/Library/Frameworks/R.framework/.. -framework R -Wl,-framework -Wl,CoreFoundation
* DONE (GeneRfold)