| DNAcopy 1.16.0 Venkatraman E. Seshan
 
 | Bioconductor Changelog |  | Snapshot Date: 2009-04-18 11:27:48 -0700 (Sat, 18 Apr 2009) |  | URL: https://hedgehog.fhcrc.org/bioconductor/branches/RELEASE_2_3/madman/Rpacks/DNAcopy |  | Last Changed Rev: 34811 / Revision: 38965 |  | Last Changed Date: 2008-10-21 15:32:58 -0700 (Tue, 21 Oct 2008) | 
 | wilson2 | Linux (openSUSE 11.1) / x86_64 | OK | OK |  | 
| liverpool | Windows Server 2003 R2 (32-bit) / x64 | OK | OK | OK | 
| pitt | Mac OS X Tiger (10.4.11) / i386 | OK | OK | [ OK ] | 
| pelham | Mac OS X Leopard (10.5.6) / i386 | OK | OK | OK | 
                INSTALLATION WITH 'R CMD INSTALL --library=DNAcopy.buildbin-libdir DNAcopy_1.16.0.tar.gz'
* Installing *source* package 'DNAcopy' ...
** libs
** arch - i386
gfortran -arch i386   -fPIC  -g -O2 -c cbststats.f -o cbststats.o
gfortran -arch i386   -fPIC  -g -O2 -c changepoints.f -o changepoints.o
gfortran -arch i386   -fPIC  -g -O2 -c esegment.f -o esegment.o
gcc -arch i386 -std=gnu99 -I/Library/Frameworks/R.framework/Versions/2.8/Resources/include -I/Library/Frameworks/R.framework/Versions/2.8/Resources/include/i386  -I/usr/local/include    -fPIC  -g -O2 -c flchoose.c -o flchoose.o
gcc -arch i386 -std=gnu99 -I/Library/Frameworks/R.framework/Versions/2.8/Resources/include -I/Library/Frameworks/R.framework/Versions/2.8/Resources/include/i386  -I/usr/local/include    -fPIC  -g -O2 -c fphyper.c -o fphyper.o
gcc -arch i386 -std=gnu99 -I/Library/Frameworks/R.framework/Versions/2.8/Resources/include -I/Library/Frameworks/R.framework/Versions/2.8/Resources/include/i386  -I/usr/local/include    -fPIC  -g -O2 -c fpnorm.c -o fpnorm.o
gfortran -arch i386   -fPIC  -g -O2 -c getbdry.f -o getbdry.o
gfortran -arch i386   -fPIC  -g -O2 -c prune.f -o prune.o
gcc -arch i386 -std=gnu99 -I/Library/Frameworks/R.framework/Versions/2.8/Resources/include -I/Library/Frameworks/R.framework/Versions/2.8/Resources/include/i386  -I/usr/local/include    -fPIC  -g -O2 -c rshared.c -o rshared.o
gfortran -arch i386   -fPIC  -g -O2 -c segmentp.f -o segmentp.o
gfortran -arch i386   -fPIC  -g -O2 -c tailprobs.f -o tailprobs.o
gcc -arch i386 -std=gnu99 -dynamiclib -Wl,-headerpad_max_install_names -mmacosx-version-min=10.4 -undefined dynamic_lookup -single_module -multiply_defined suppress -L/usr/local/lib -o DNAcopy.so cbststats.o changepoints.o esegment.o flchoose.o fphyper.o fpnorm.o getbdry.o prune.o rshared.o segmentp.o tailprobs.o  -lgfortran -F/Library/Frameworks/R.framework/.. -framework R -Wl,-framework -Wl,CoreFoundation
** arch - ppc
gfortran -arch ppc   -fPIC  -g -O2 -c cbststats.f -o cbststats.o
gfortran -arch ppc   -fPIC  -g -O2 -c changepoints.f -o changepoints.o
gfortran -arch ppc   -fPIC  -g -O2 -c esegment.f -o esegment.o
gcc -arch ppc -std=gnu99 -I/Library/Frameworks/R.framework/Versions/2.8/Resources/include -I/Library/Frameworks/R.framework/Versions/2.8/Resources/include/ppc  -I/usr/local/include    -fPIC  -g -O2 -c flchoose.c -o flchoose.o
gcc -arch ppc -std=gnu99 -I/Library/Frameworks/R.framework/Versions/2.8/Resources/include -I/Library/Frameworks/R.framework/Versions/2.8/Resources/include/ppc  -I/usr/local/include    -fPIC  -g -O2 -c fphyper.c -o fphyper.o
gcc -arch ppc -std=gnu99 -I/Library/Frameworks/R.framework/Versions/2.8/Resources/include -I/Library/Frameworks/R.framework/Versions/2.8/Resources/include/ppc  -I/usr/local/include    -fPIC  -g -O2 -c fpnorm.c -o fpnorm.o
gfortran -arch ppc   -fPIC  -g -O2 -c getbdry.f -o getbdry.o
gfortran -arch ppc   -fPIC  -g -O2 -c prune.f -o prune.o
gcc -arch ppc -std=gnu99 -I/Library/Frameworks/R.framework/Versions/2.8/Resources/include -I/Library/Frameworks/R.framework/Versions/2.8/Resources/include/ppc  -I/usr/local/include    -fPIC  -g -O2 -c rshared.c -o rshared.o
gfortran -arch ppc   -fPIC  -g -O2 -c segmentp.f -o segmentp.o
gfortran -arch ppc   -fPIC  -g -O2 -c tailprobs.f -o tailprobs.o
gcc -arch ppc -std=gnu99 -dynamiclib -Wl,-headerpad_max_install_names -mmacosx-version-min=10.4 -undefined dynamic_lookup -single_module -multiply_defined suppress -L/usr/local/lib -o DNAcopy.so cbststats.o changepoints.o esegment.o flchoose.o fphyper.o fpnorm.o getbdry.o prune.o rshared.o segmentp.o tailprobs.o  -lgfortran -lSystemStubs -F/Library/Frameworks/R.framework/.. -framework R -Wl,-framework -Wl,CoreFoundation
** R
** data
**  moving datasets to lazyload DB
** demo
** inst
** preparing package for lazy loading
** help
 >>> Building/Updating help pages for package 'DNAcopy'
     Formats: text html latex example 
  CNA                               text    html    latex   example
  DNAcopy-internal                  text    html    latex
  DNAcopy                           text    html    latex
  coriell                           text    html    latex
  cytoBand                          text    html    latex
  exon.segment                      text    html    latex   example
  getbdry                           text    html    latex
  plot.DNAcopy                      text    html    latex   example
  segment                           text    html    latex   example
  segments.p                        text    html    latex   example
  segments.summary                  text    html    latex   example
  smooth.CNA                        text    html    latex   example
  subset.CNA                        text    html    latex   example
  subset.DNAcopy                    text    html    latex
** building package indices ...
* DONE (DNAcopy)