| AffyExpress 1.8.0 Xuejun Arthur Li
 
 | Bioconductor Changelog |  | Snapshot Date: 2009-04-18 11:27:48 -0700 (Sat, 18 Apr 2009) |  | URL: https://hedgehog.fhcrc.org/bioconductor/branches/RELEASE_2_3/madman/Rpacks/AffyExpress |  | Last Changed Rev: 34811 / Revision: 38965 |  | Last Changed Date: 2008-10-21 15:32:58 -0700 (Tue, 21 Oct 2008) | 
 | wilson2 | Linux (openSUSE 11.1) / x86_64 | OK | OK |  | 
| liverpool | Windows Server 2003 R2 (32-bit) / x64 | OK | OK | OK | 
| pitt | Mac OS X Tiger (10.4.11) / i386 | OK | OK | [ OK ] | 
| pelham | Mac OS X Leopard (10.5.6) / i386 | OK | OK | OK | 
                INSTALLATION WITH 'R CMD INSTALL --library=AffyExpress.buildbin-libdir AffyExpress_1.8.0.tar.gz'
* Installing *source* package 'AffyExpress' ...
** R
** data
** inst
** preparing package for lazy loading
Loading required package: affy
Loading required package: Biobase
Loading required package: tools
Welcome to Bioconductor
  Vignettes contain introductory material. To view, type
  'openVignette()'. To cite Bioconductor, see
  'citation("Biobase")' and for packages 'citation(pkgname)'.
Loading required package: limma
** help
 >>> Building/Updating help pages for package 'AffyExpress'
     Formats: text html latex example 
  AffyInteraction                   text    html    latex   example
  AffyQA                            text    html    latex   example
  AffyRegress                       text    html    latex   example
  Filter                            text    html    latex   example
  import.data                       text    html    latex   example
  interaction.result2html           text    html    latex   example
  make.contrast                     text    html    latex   example
  make.design                       text    html    latex   example
  post.interaction                  text    html    latex   example
  pre.process                       text    html    latex   example
  regress                           text    html    latex   example
  result2html                       text    html    latex   example
  select.sig.gene                   text    html    latex   example
  testData                          text    html    latex
** building package indices ...
* DONE (AffyExpress)