pumadata 1.0.1 Richard Pearson
Snapshot Date: 2008-10-16 12:02:11 -0700 (Thu, 16 Oct 2008) | URL: https://hedgehog.fhcrc.org/bioc-data/trunk/experiment/pkgs/pumadata | Last Changed Rev: 699 / Revision: 729 | Last Changed Date: 2008-08-28 09:23:53 -0700 (Thu, 28 Aug 2008) |
| lamb1 | Linux (SUSE 10.1) / x86_64 | OK | OK | |
liverpool | Windows Server 2003 R2 (32-bit) / x64 | OK | OK | OK |
pitt | Mac OS X Tiger (10.4.11) / i386 | OK | OK | [ OK ] |
INSTALLATION WITH 'R CMD INSTALL pumadata_1.0.1.tar.gz'
* Installing to library 'pumadata.buildbin-libdir'
* Installing *source* package 'pumadata' ...
** R
** data
** inst
** help
>>> Building/Updating help pages for package 'pumadata'
Formats: text html latex example
affybatch.estrogen text html latex
eset_estrogen_comb text html latex example
eset_estrogen_mmgmos text html latex example
eset_estrogen_rma text html latex example
pumapca_estrogen text html latex example
** building package indices ...
* DONE (pumadata)