| maqcExpression4plex 1.2 Benilton Carvalho
 
 | Snapshot Date: 2008-10-16 12:02:11 -0700 (Thu, 16 Oct 2008) |  | URL: https://hedgehog.fhcrc.org/bioc-data/trunk/experiment/pkgs/maqcExpression4plex |  | Last Changed Rev: 399 / Revision: 729 |  | Last Changed Date: 2007-07-28 14:59:14 -0700 (Sat, 28 Jul 2007) | 
 | lamb1 | Linux (SUSE 10.1) / x86_64 | OK | OK |  | 
| liverpool | Windows Server 2003 R2 (32-bit) / x64 | [ OK ] | OK | OK | 
| pitt | Mac OS X Tiger (10.4.11) / i386 | OK | OK | OK | 
* checking for file 'maqcExpression4plex/DESCRIPTION' ... OK
* preparing 'maqcExpression4plex':
* checking DESCRIPTION meta-information ... OK
* removing junk files
* checking for LF line-endings in source and make files
* checking for empty or unneeded directories
* building 'maqcExpression4plex_1.2.tar.gz'