| Back to the "Multiple platform build/check report" |
| Package 34/61 | Hostname | OS / Arch | BUILD | CHECK | BUILD BIN | ||||
| humanStemCell 0.2.0 R. Gentleman
| lamb1 | Linux (SUSE 10.1) / x86_64 | OK | WARNINGS | |||||
| liverpool | Windows Server 2003 R2 (32-bit) / x64 | OK | WARNINGS | OK | |||||
| pitt | Mac OS X Tiger (10.4.11) / i386 | OK | WARNINGS | [ OK ] |
| Package: humanStemCell |
| Version: 0.2.0 |
| Command: /Users/biocbuild/BBS/utils/build-universal.sh humanStemCell_0.2.0.tar.gz /Library/Frameworks/R.framework/Versions/2.7/Resources/bin/R humanStemCell.buildbin-libdir |
| StartedAt: 2008-10-16 14:11:49 -0700 (Thu, 16 Oct 2008) |
| EndedAt: 2008-10-16 14:12:30 -0700 (Thu, 16 Oct 2008) |
| EllapsedTime: 41.0 seconds |
| RetCode: 0 |
| Status: OK |
| PackageFile: humanStemCell_0.2.0.tgz |
| PackageFileSize: 31.39 MiB |
INSTALLATION WITH 'R CMD INSTALL humanStemCell_0.2.0.tar.gz'
* Installing to library 'humanStemCell.buildbin-libdir'
* Installing *source* package 'humanStemCell' ...
** data
** inst
No man pages found in package 'humanStemCell'
** building package indices ...
* DONE (humanStemCell)