gaschYHS 1.0.0 Vince Carey
 | Snapshot Date: 2008-10-16 12:02:11 -0700 (Thu, 16 Oct 2008) |  | URL: https://hedgehog.fhcrc.org/bioc-data/trunk/experiment/pkgs/gaschYHS |  | Last Changed Rev: 163 / Revision: 729 |  | Last Changed Date: 2006-10-10 12:38:08 -0700 (Tue, 10 Oct 2006) |  
  | lamb1  | Linux (SUSE 10.1) / x86_64  |  OK  |  OK  |  | 
| liverpool  | Windows Server 2003 R2 (32-bit) / x64  |  OK  |  OK  |  OK  | 
| pitt  | Mac OS X Tiger (10.4.11) / i386  |  OK  | [ OK ] |  OK  | 
* checking for working pdflatex ... OK
* using log directory '/Users/biocbuild/bbs-2.2-data-experiment/meat/gaschYHS.Rcheck'
* using R version 2.7.2 (2008-08-25)
* using session charset: ASCII
* checking for file 'gaschYHS/DESCRIPTION' ... OK
* this is package 'gaschYHS' version '1.0.0'
* checking package dependencies ... OK
* checking if this is a source package ... OK
* checking whether package 'gaschYHS' can be installed ... OK
* checking package directory ... OK
* checking for portable file names ... OK
* checking for sufficient/correct file permissions ... OK
* checking DESCRIPTION meta-information ... OK
* checking top-level files ... OK
* checking index information ... OK
* checking package subdirectories ... OK
* checking whether the package can be loaded ... OK
* checking whether the package can be loaded with stated dependencies ... OK
* checking Rd files ... OK
* checking Rd cross-references ... OK
* checking for missing documentation entries ... OK
* checking for code/documentation mismatches ... OK
* checking Rd \usage sections ... OK
* checking data for non-ASCII characters ... OK
* creating gaschYHS-Ex.R ... OK
* checking examples ... OK
* creating gaschYHS-manual.tex ... OK
* checking gaschYHS-manual.tex using pdflatex ... OK