| faahKO 1.2.1 Colin A. Smith
 
 | Snapshot Date: 2008-10-16 12:02:11 -0700 (Thu, 16 Oct 2008) |  | URL: https://hedgehog.fhcrc.org/bioc-data/trunk/experiment/pkgs/faahKO |  | Last Changed Rev: 695 / Revision: 729 |  | Last Changed Date: 2008-07-16 14:26:39 -0700 (Wed, 16 Jul 2008) | 
 | lamb1 | Linux (SUSE 10.1) / x86_64 | OK | ERROR |  | 
| liverpool | Windows Server 2003 R2 (32-bit) / x64 | OK | ERROR | [ OK ] | 
| pitt | Mac OS X Tiger (10.4.11) / i386 | OK | ERROR | OK | 
installing R.css in E:/biocbld/bbs-2.2-data-experiment/meat/faahKO.buildbin-libdir
Using auto-selected zip options ''
---------- Making package faahKO ------------
  adding build stamp to DESCRIPTION
  installing R files
  installing inst files
  installing data files
  installing man source files
  installing indices
  not zipping data
  installing help
 >>> Building/Updating help pages for package 'faahKO'
     Formats: text html latex example chm 
  faahko                            text    html    latex   example chm
Microsoft HTML Help Compiler 4.74.8702
Compiling e:\biocbld\bbs-2.2-data-experiment\meat\R.INSTALL.4444\faahKO\chm\faahKO.chm
Compile time: 0 minutes, 0 seconds
2	Topics
3	Local links
1	Internet link
1	Graphic
Created e:\biocbld\bbs-2.2-data-experiment\meat\R.INSTALL.4444\faahKO\chm\faahKO.chm, 17,607 bytes
Compression increased file by 9,001 bytes.
  adding MD5 sums
packaged installation of package 'faahKO' as faahKO_1.2.1.zip
* DONE (faahKO)