| Back to the "Multiple platform build/check report" |
| Package 13/61 | Hostname | OS / Arch | BUILD | CHECK | BUILD BIN | ||||
| ecoliLeucine 1.2.1 Laurent Gautier
| lamb1 | Linux (SUSE 10.1) / x86_64 | OK | OK | |||||
| liverpool | Windows Server 2003 R2 (32-bit) / x64 | [ OK ] | OK | OK | |||||
| pitt | Mac OS X Tiger (10.4.11) / i386 | OK | OK | OK |
| Package: ecoliLeucine |
| Version: 1.2.1 |
| Command: E:\biocbld\bbs-2.2-bioc\R\bin\R.exe CMD build ecoliLeucine |
| StartedAt: 2008-10-16 13:19:22 -0700 (Thu, 16 Oct 2008) |
| EndedAt: 2008-10-16 13:19:27 -0700 (Thu, 16 Oct 2008) |
| EllapsedTime: 5.5 seconds |
| RetCode: 0 |
| Status: OK |
| PackageFile: ecoliLeucine_1.2.1.tar.gz |
| PackageFileSize: 5.482 MiB |
* checking for file 'ecoliLeucine/DESCRIPTION' ... OK * preparing 'ecoliLeucine': * checking DESCRIPTION meta-information ... OK * removing junk files * checking for LF line-endings in source and make files * checking for empty or unneeded directories * building 'ecoliLeucine_1.2.1.tar.gz'