| MAQCsubsetAFX 1.0.0 Laurent Gatto
 
 | Snapshot Date: 2008-10-16 12:02:11 -0700 (Thu, 16 Oct 2008) |  | URL: https://hedgehog.fhcrc.org/bioc-data/trunk/experiment/pkgs/MAQCsubsetAFX |  | Last Changed Rev: 572 / Revision: 729 |  | Last Changed Date: 2008-03-12 02:29:20 -0700 (Wed, 12 Mar 2008) | 
 | lamb1 | Linux (SUSE 10.1) / x86_64 | OK | OK |  | 
| liverpool | Windows Server 2003 R2 (32-bit) / x64 | OK | [ OK ] | OK | 
| pitt | Mac OS X Tiger (10.4.11) / i386 | OK | OK | OK | 
* checking for working pdflatex ... OK
* using log directory 'E:/biocbld/bbs-2.2-data-experiment/meat/MAQCsubsetAFX.Rcheck'
* using R version 2.7.2 (2008-08-25)
* using session charset: ISO8859-1
* checking for file 'MAQCsubsetAFX/DESCRIPTION' ... OK
* this is package 'MAQCsubsetAFX' version '1.0.0'
* checking package dependencies ... OK
* checking if this is a source package ... OK
* checking whether package 'MAQCsubsetAFX' can be installed ... OK
* checking package directory ... OK
* checking for portable file names ... OK
* checking DESCRIPTION meta-information ... OK
* checking top-level files ... OK
* checking index information ... OK
* checking package subdirectories ... OK
* checking whether the package can be loaded ... OK
* checking whether the package can be loaded with stated dependencies ... OK
* checking Rd files ... OK
* checking Rd cross-references ... OK
* checking for missing documentation entries ... OK
* checking for code/documentation mismatches ... OK
* checking Rd \usage sections ... OK
* checking data for non-ASCII characters ... OK
* creating MAQCsubsetAFX-Ex.R ... OK
* checking examples ... OK
* checking package vignettes in 'inst/doc' ... OK
* creating MAQCsubsetAFX-manual.tex ... OK
* checking MAQCsubsetAFX-manual.tex using pdflatex ... OK
 
installing R.css in E:/biocbld/bbs-2.2-data-experiment/meat/MAQCsubsetAFX.Rcheck
---------- Making package MAQCsubsetAFX ------------
  adding build stamp to DESCRIPTION
  no R files in this package
  installing inst files
  installing data files
  installing man source files
  installing indices
  not zipping data
  installing help
 >>> Building/Updating help pages for package 'MAQCsubsetAFX'
     Formats: text html latex example chm 
  refA                              text    html    latex           chm
  refB                              text    html    latex           chm
  refC                              text    html    latex           chm
  refD                              text    html    latex           chm
Microsoft HTML Help Compiler 4.74.8702
Compiling e:\biocbld\bbs-2.2-data-experiment\meat\MAQCsubsetAFX.Rcheck\00_pkg_src\MAQCsubsetAFX\chm\MAQCsubsetAFX.chm
Compile time: 0 minutes, 0 seconds
5	Topics
8	Local links
0	Internet links
1	Graphic
Created e:\biocbld\bbs-2.2-data-experiment\meat\MAQCsubsetAFX.Rcheck\00_pkg_src\MAQCsubsetAFX\chm\MAQCsubsetAFX.chm, 16,674 bytes
Compression increased file by 5,150 bytes.
  adding MD5 sums
* DONE (MAQCsubsetAFX)