| MAQCsubset 1.0.13 VJ Carey
 
 | Snapshot Date: 2008-10-16 12:02:11 -0700 (Thu, 16 Oct 2008) |  | URL: https://hedgehog.fhcrc.org/bioc-data/trunk/experiment/pkgs/MAQCsubset |  | Last Changed Rev: 659 / Revision: 729 |  | Last Changed Date: 2008-05-27 12:56:09 -0700 (Tue, 27 May 2008) | 
 | lamb1 | Linux (SUSE 10.1) / x86_64 | OK | OK |  | 
| liverpool | Windows Server 2003 R2 (32-bit) / x64 | OK | OK | [ OK ] | 
| pitt | Mac OS X Tiger (10.4.11) / i386 | OK | OK | OK | 
installing R.css in E:/biocbld/bbs-2.2-data-experiment/meat/MAQCsubset.buildbin-libdir
Using auto-selected zip options 'MAQCsubset-ZIPDATA=zip'
---------- Making package MAQCsubset ------------
  adding build stamp to DESCRIPTION
  installing R files
  installing inst files
  installing data files
  preparing package MAQCsubset for lazy loading
Loading required package: Biobase
Loading required package: tools
Welcome to Bioconductor
  Vignettes contain introductory material. To view, type
  'openVignette()'. To cite Bioconductor, see
  'citation("Biobase")' and for packages 'citation(pkgname)'.
Creating a new generic function for "plot" in "MAQCsubset"
Creating a new generic function for "lines" in "MAQCsubset"
  installing man source files
  installing indices
  zipping data
  installing help
 >>> Building/Updating help pages for package 'MAQCsubset'
     Formats: text html latex example chm 
  MAQCsubset                        text    html    latex   example chm
  gehMAQCsubDef                     text    html    latex   example chm
  gnfCerebHi                        text    html    latex   example chm
  proboStruct-class                 text    html    latex   example chm
  proboscis                         text    html    latex   example chm
Microsoft HTML Help Compiler 4.74.8702
Compiling e:\biocbld\bbs-2.2-data-experiment\meat\R.INSTALL.4348\MAQCsubset\chm\MAQCsubset.chm
Compile time: 0 minutes, 0 seconds
6	Topics
20	Local links
0	Internet links
1	Graphic
Created e:\biocbld\bbs-2.2-data-experiment\meat\R.INSTALL.4348\MAQCsubset\chm\MAQCsubset.chm, 22,109 bytes
Compression increased file by 784 bytes.
  adding MD5 sums
packaged installation of package 'MAQCsubset' as MAQCsubset_1.0.13.zip
* DONE (MAQCsubset)