HIVcDNAvantWout03 1.2.0 Chris Fraley
 | Snapshot Date: 2008-10-16 12:02:11 -0700 (Thu, 16 Oct 2008) |  | URL: https://hedgehog.fhcrc.org/bioc-data/trunk/experiment/pkgs/HIVcDNAvantWout03 |  | Last Changed Rev: 227 / Revision: 729 |  | Last Changed Date: 2007-01-10 09:38:56 -0800 (Wed, 10 Jan 2007) |  
  | lamb1  | Linux (SUSE 10.1) / x86_64  |  OK  |  OK  |  | 
| liverpool  | Windows Server 2003 R2 (32-bit) / x64  |  OK  |  OK  |  OK  | 
| pitt  | Mac OS X Tiger (10.4.11) / i386  |  OK  | [ OK ] |  OK  | 
* checking for working pdflatex ... OK
* using log directory '/Users/biocbuild/bbs-2.2-data-experiment/meat/HIVcDNAvantWout03.Rcheck'
* using R version 2.7.2 (2008-08-25)
* using session charset: ASCII
* checking for file 'HIVcDNAvantWout03/DESCRIPTION' ... OK
* this is package 'HIVcDNAvantWout03' version '1.2.0'
* checking package dependencies ... OK
* checking if this is a source package ... OK
* checking whether package 'HIVcDNAvantWout03' can be installed ... OK
* checking package directory ... OK
* checking for portable file names ... OK
* checking for sufficient/correct file permissions ... OK
* checking DESCRIPTION meta-information ... OK
* checking top-level files ... OK
* checking index information ... OK
* checking package subdirectories ... OK
* checking whether the package can be loaded ... OK
* checking whether the package can be loaded with stated dependencies ... OK
* checking Rd files ... OK
* checking Rd cross-references ... OK
* checking for missing documentation entries ... OK
* checking for code/documentation mismatches ... OK
* checking Rd \usage sections ... OK
* checking data for non-ASCII characters ... OK
* creating HIVcDNAvantWout03-Ex.R ... OK
* checking examples ... OK
* creating HIVcDNAvantWout03-manual.tex ... OK
* checking HIVcDNAvantWout03-manual.tex using pdflatex ... OK
 
* Installing *source* package 'HIVcDNAvantWout03' ...
** data
** inst
** help
 >>> Building/Updating help pages for package 'HIVcDNAvantWout03'
     Formats: text html latex example 
  hiv1raw                           text    html    latex
  hiv2raw                           text    html    latex
** building package indices ...
Read 450000 items
Read 450000 items
* DONE (HIVcDNAvantWout03)