| Back to the "Multiple platform build/check report" |
| Package 4/61 | Hostname | OS / Arch | BUILD | CHECK | BUILD BIN | ||||
| ALLMLL 1.2.2 B. M. Bolstad
| lamb1 | Linux (SUSE 10.1) / x86_64 | [ OK ] | OK | |||||
| liverpool | Windows Server 2003 R2 (32-bit) / x64 | OK | OK | OK | |||||
| pitt | Mac OS X Tiger (10.4.11) / i386 | OK | OK | OK |
| Package: ALLMLL |
| Version: 1.2.2 |
| Command: /home/biocbuild/bbs-2.2-bioc/R/bin/R CMD build ALLMLL |
| StartedAt: 2008-10-16 12:51:07 -0700 (Thu, 16 Oct 2008) |
| EndedAt: 2008-10-16 12:51:11 -0700 (Thu, 16 Oct 2008) |
| EllapsedTime: 4.5 seconds |
| RetCode: 0 |
| Status: OK |
| PackageFile: ALLMLL_1.2.2.tar.gz |
| PackageFileSize: 37.54 MiB |
* checking for file 'ALLMLL/DESCRIPTION' ... OK * preparing 'ALLMLL': * checking DESCRIPTION meta-information ... OK * removing junk files * checking for LF line-endings in source and make files * checking for empty or unneeded directories * building 'ALLMLL_1.2.2.tar.gz'