| splots 1.6.0 Oleg Sklyar
 
 | Snapshot Date: 2008-10-16 00:10:09 -0700 (Thu, 16 Oct 2008) |  | URL: https://hedgehog.fhcrc.org/bioconductor/branches/RELEASE_2_2/madman/Rpacks/splots |  | Last Changed Rev: 31430 / Revision: 34573 |  | Last Changed Date: 2008-04-29 16:50:18 -0700 (Tue, 29 Apr 2008) | 
 | lamb1 | Linux (SUSE 10.1) / x86_64 | OK | OK |  | 
| wilson2 | Linux (openSUSE 10.3) / x86_64 | OK | OK |  | 
| wellington | Linux (openSUSE 10.3) / i686 | OK | OK |  | 
| liverpool | Windows Server 2003 R2 (32-bit) / x64 | OK | OK | OK | 
| pitt | Mac OS X Tiger (10.4.11) / i386 | OK | OK | [ OK ] | 
                INSTALLATION WITH 'R CMD INSTALL splots_1.6.0.tar.gz'
* Installing to library 'splots.buildbin-libdir'
* Installing *source* package 'splots' ...
** R
** inst
** preparing package for lazy loading
Loading required package: grid
** help
 >>> Building/Updating help pages for package 'splots'
     Formats: text html latex example 
  plotScreen                        text    html    latex   example
** building package indices ...
* DONE (splots)