| seqLogo 1.6.0 Oliver Bembom
 
 | Snapshot Date: 2008-10-16 00:10:09 -0700 (Thu, 16 Oct 2008) |  | URL: https://hedgehog.fhcrc.org/bioconductor/branches/RELEASE_2_2/madman/Rpacks/seqLogo |  | Last Changed Rev: 31430 / Revision: 34573 |  | Last Changed Date: 2008-04-29 16:50:18 -0700 (Tue, 29 Apr 2008) | 
 | lamb1 | Linux (SUSE 10.1) / x86_64 | OK | OK |  | 
| wilson2 | Linux (openSUSE 10.3) / x86_64 | OK | OK |  | 
| wellington | Linux (openSUSE 10.3) / i686 | [ OK ] | OK |  | 
| liverpool | Windows Server 2003 R2 (32-bit) / x64 | OK | OK | OK | 
| pitt | Mac OS X Tiger (10.4.11) / i386 | OK | OK | OK | 
* checking for file 'seqLogo/DESCRIPTION' ... OK
* preparing 'seqLogo':
* checking DESCRIPTION meta-information ... OK
* installing the package to re-build vignettes
* Installing *source* package 'seqLogo' ...
** R
** inst
** preparing package for lazy loading
Loading required package: grid
Creating a new generic function for "plot" in "seqLogo"
Creating a new generic function for "summary" in "seqLogo"
Creating a new generic function for "print" in "seqLogo"
** help
Note: removing empty section \details
Note: removing empty section \seealso
Note: removing empty section \note
Note: removing empty section \references
Note: removing empty section \seealso
Note: removing empty section \examples
Note: removing empty section \note
Note: removing empty section \references
Note: removing empty section \seealso
 >>> Building/Updating help pages for package 'seqLogo'
     Formats: text html latex example 
  makePWM                           text    html    latex   example
  pwm-class                         text    html    latex
  seqLogo                           text    html    latex   example
** building package indices ...
* DONE (seqLogo)
* creating vignettes ... OK
* removing junk files
* checking for LF line-endings in source and make files
* checking for empty or unneeded directories
* building 'seqLogo_1.6.0.tar.gz'