| Back to the "Multiple platform build/check report" | A B C D E F G H I J K L M N O [P] Q R S T U V W X Y Z | 
| Package 188/260 | Hostname | OS / Arch | BUILD | CHECK | BUILD BIN | ||||
| puma 1.6.0 Richard Pearson 
 | lamb1 | Linux (SUSE 10.1) / x86_64 | OK | OK | |||||
| wilson2 | Linux (openSUSE 10.3) / x86_64 | OK | OK | ||||||
| wellington | Linux (openSUSE 10.3) / i686 | OK | OK | ||||||
| liverpool | Windows Server 2003 R2 (32-bit) / x64 | OK | OK | OK | |||||
| pitt | Mac OS X Tiger (10.4.11) / i386 | [ OK ] | OK | OK | 
| Package: puma | 
| Version: 1.6.0 | 
| Command: /Library/Frameworks/R.framework/Versions/2.7/Resources/bin/R CMD build puma | 
| StartedAt: 2008-10-16 03:30:55 -0700 (Thu, 16 Oct 2008) | 
| EndedAt: 2008-10-16 03:30:57 -0700 (Thu, 16 Oct 2008) | 
| EllapsedTime: 1.8 seconds | 
| RetCode: 0 | 
| Status: OK | 
| PackageFile: puma_1.6.0.tar.gz | 
| PackageFileSize: 401.4 KiB | 
* checking for file 'puma/DESCRIPTION' ... OK * preparing 'puma': * checking DESCRIPTION meta-information ... OK * cleaning src * removing junk files * checking for LF line-endings in source and make files * checking for empty or unneeded directories * building 'puma_1.6.0.tar.gz'