plier 1.10.0 Crispin Miller
 | Snapshot Date: 2008-10-16 00:10:09 -0700 (Thu, 16 Oct 2008) |  | URL: https://hedgehog.fhcrc.org/bioconductor/branches/RELEASE_2_2/madman/Rpacks/plier |  | Last Changed Rev: 31430 / Revision: 34573 |  | Last Changed Date: 2008-04-29 16:50:18 -0700 (Tue, 29 Apr 2008) |  
  | lamb1  | Linux (SUSE 10.1) / x86_64  |  OK  |  OK  |  | 
| wilson2  | Linux (openSUSE 10.3) / x86_64  |  OK  |  OK  |  | 
| wellington  | Linux (openSUSE 10.3) / i686  |  OK  |  OK  |  | 
| liverpool  | Windows Server 2003 R2 (32-bit) / x64  |  OK  |  OK  | [ OK ] | 
| pitt  | Mac OS X Tiger (10.4.11) / i386  |  OK  |  OK  |  OK  | 
installing R.css in E:/biocbld/bbs-2.2-bioc/meat/plier.buildbin-libdir
Using auto-selected zip options ''
---------- Making package plier ------------
  adding build stamp to DESCRIPTION
  making DLL ...
making affyplier.d from affyplier.cpp
making plier_impl.d from plier_impl.cpp
making plieralg.d from plieralg.cpp
making rwrapper.d from rwrapper.cpp
g++   -IE:/biocbld/bbs-2.2-bioc/R/include     -O2 -Wall  -c affyplier.cpp -o affyplier.o
g++   -IE:/biocbld/bbs-2.2-bioc/R/include     -O2 -Wall  -c plier_impl.cpp -o plier_impl.o
g++   -IE:/biocbld/bbs-2.2-bioc/R/include     -O2 -Wall  -c plieralg.cpp -o plieralg.o
plieralg.cpp: In function 'long int NewtonPlier(plier_data*, double&)':
plieralg.cpp:909: warning: 'LogLikelihood' may be used uninitialized in this function
plieralg.cpp: At global scope:
plieralg.cpp:48: warning: 'g_ErrorCode' defined but not used
g++   -IE:/biocbld/bbs-2.2-bioc/R/include     -O2 -Wall  -c rwrapper.cpp -o rwrapper.o
windres --preprocessor="gcc -E -xc -DRC_INVOKED" -I E:/biocbld/bbs-2.2-bioc/R/include  -i plier_res.rc -o plier_res.o
g++   -shared -s  -o plier.dll plier.def affyplier.o plier_impl.o plieralg.o rwrapper.o plier_res.o  -LE:/biocbld/bbs-2.2-bioc/R/bin    -lR
  ... DLL made
  installing DLL
  installing R files
  installing man source files
  installing indices
  installing help
Note: removing empty section \examples
Note: removing empty section \examples
 >>> Building/Updating help pages for package 'plier'
     Formats: text html latex example chm 
  justPlier                         text    html    latex           chm
Microsoft HTML Help Compiler 4.74.8702
Compiling e:\biocbld\bbs-2.2-bioc\meat\R.INSTALL.1556\plier\chm\plier.chm
Compile time: 0 minutes, 0 seconds
2	Topics
2	Local links
0	Internet links
1	Graphic
Created e:\biocbld\bbs-2.2-bioc\meat\R.INSTALL.1556\plier\chm\plier.chm, 17,246 bytes
Compression increased file by 7,752 bytes.
  adding MD5 sums
packaged installation of package 'plier' as plier_1.10.0.zip
* DONE (plier)