| mdqc 1.2.1 Gabriela Cohen-Freue
 
 | Snapshot Date: 2008-10-16 00:10:09 -0700 (Thu, 16 Oct 2008) |  | URL: https://hedgehog.fhcrc.org/bioconductor/branches/RELEASE_2_2/madman/Rpacks/mdqc |  | Last Changed Rev: 31651 / Revision: 34573 |  | Last Changed Date: 2008-05-13 11:04:13 -0700 (Tue, 13 May 2008) | 
 | lamb1 | Linux (SUSE 10.1) / x86_64 | OK | OK |  | 
| wilson2 | Linux (openSUSE 10.3) / x86_64 | OK | OK |  | 
| wellington | Linux (openSUSE 10.3) / i686 | OK | OK |  | 
| liverpool | Windows Server 2003 R2 (32-bit) / x64 | [ OK ] | OK | OK | 
| pitt | Mac OS X Tiger (10.4.11) / i386 | OK | OK | OK | 
* checking for file 'mdqc/DESCRIPTION' ... OK
* preparing 'mdqc':
* checking DESCRIPTION meta-information ... OK
* installing the package to re-build vignettes
installing R.css in E:/biocbld/bbs-2.2-bioc/tmpdir/Rinst593288296
---------- Making package mdqc ------------
  adding build stamp to DESCRIPTION
  installing NAMESPACE file and metadata
  installing R files
  installing inst files
  installing data files
  installing man source files
  installing indices
  not zipping data
  installing help
 >>> Building/Updating help pages for package 'mdqc'
     Formats: text html latex example chm 
  allQC                             text    html    latex   example chm
  mdqc-package                      text    html    latex           chm
  mdqc                              text    html    latex   example chm
  plot.mdqc                         text    html    latex   example chm
  prcomp.robust                     text    html    latex   example chm
Microsoft HTML Help Compiler 4.74.8702
Compiling e:\biocbld\bbs-2.2-bioc\meat\mdqc\chm\mdqc.chm
Compile time: 0 minutes, 1 second
6	Topics
16	Local links
1	Internet link
1	Graphic
Created e:\biocbld\bbs-2.2-bioc\meat\mdqc\chm\mdqc.chm, 29,079 bytes
Compression decreased file by 2,126 bytes.
  adding MD5 sums
* DONE (mdqc)
* creating vignettes ... OK
* removing junk files
* checking for LF line-endings in source and make files
* checking for empty or unneeded directories
* building 'mdqc_1.2.1.tar.gz'