| gaggle 1.8.1 Dan Tenenbaum
 
 | Snapshot Date: 2008-10-16 00:10:09 -0700 (Thu, 16 Oct 2008) |  | URL: https://hedgehog.fhcrc.org/bioconductor/branches/RELEASE_2_2/madman/Rpacks/gaggle |  | Last Changed Rev: 34139 / Revision: 34573 |  | Last Changed Date: 2008-10-02 10:08:20 -0700 (Thu, 02 Oct 2008) | 
 | lamb1 | Linux (SUSE 10.1) / x86_64 | OK | OK |  | 
| wilson2 | Linux (openSUSE 10.3) / x86_64 | OK | OK |  | 
| wellington | Linux (openSUSE 10.3) / i686 | OK | OK |  | 
| liverpool | Windows Server 2003 R2 (32-bit) / x64 | [ OK ] | OK | OK | 
| pitt | Mac OS X Tiger (10.4.11) / i386 | OK | OK | OK | 
* checking for file 'gaggle/DESCRIPTION' ... OK
* preparing 'gaggle':
* checking DESCRIPTION meta-information ... OK
* installing the package to re-build vignettes
installing R.css in E:/biocbld/bbs-2.2-bioc/tmpdir/Rinst449277041
---------- Making package gaggle ------------
  adding build stamp to DESCRIPTION
  installing NAMESPACE file and metadata
  installing R files
  installing inst files
  installing man source files
  installing indices
  installing help
Note: removing empty section \arguments
Note: removing empty section \arguments
Note: removing empty section \arguments
Note: removing empty section \arguments
Note: removing empty section \arguments
Note: removing empty section \arguments
Note: removing empty section \arguments
Note: removing empty section \arguments
Note: removing empty section \arguments
Note: removing empty section \arguments
 >>> Building/Updating help pages for package 'gaggle'
     Formats: text html latex example chm 
  broadcast                         text    html    latex           chm
  connectToGaggle                   text    html    latex           chm
  disconnectFromGaggle              text    html    latex           chm
  gaggleInit                        text    html    latex           chm
  geese                             text    html    latex           chm
  getCluster                        text    html    latex           chm
  getMatrix                         text    html    latex           chm
  getNameList                       text    html    latex           chm
  getNetwork                        text    html    latex           chm
  getSpecies                        text    html    latex           chm
  getTargetGoose                    text    html    latex           chm
  getTuple                          text    html    latex           chm
  hideGoose                         text    html    latex           chm
  setSpecies                        text    html    latex           chm
  setTargetGoose                    text    html    latex           chm
  showGoose                         text    html    latex           chm
  testGagglePackage                 text    html    latex           chm
Microsoft HTML Help Compiler 4.74.8702
Compiling e:\biocbld\bbs-2.2-bioc\meat\gaggle\chm\gaggle.chm
Compile time: 0 minutes, 1 second
18	Topics
79	Local links
0	Internet links
1	Graphic
Created e:\biocbld\bbs-2.2-bioc\meat\gaggle\chm\gaggle.chm, 25,385 bytes
Compression decreased file by 11,935 bytes.
  adding MD5 sums
* DONE (gaggle)
* creating vignettes ... OK
* removing junk files
* checking for LF line-endings in source and make files
* checking for empty or unneeded directories
* building 'gaggle_1.8.1.tar.gz'