| flowQ 1.0.0 N. Le Meur
 
 | Snapshot Date: 2008-10-16 00:10:09 -0700 (Thu, 16 Oct 2008) |  | URL: https://hedgehog.fhcrc.org/bioconductor/branches/RELEASE_2_2/madman/Rpacks/flowQ |  | Last Changed Rev: 31430 / Revision: 34573 |  | Last Changed Date: 2008-04-29 16:50:18 -0700 (Tue, 29 Apr 2008) | 
 | lamb1 | Linux (SUSE 10.1) / x86_64 | OK | OK |  | 
| wilson2 | Linux (openSUSE 10.3) / x86_64 | OK | OK |  | 
| wellington | Linux (openSUSE 10.3) / i686 | [ OK ] | OK |  | 
| liverpool | Windows Server 2003 R2 (32-bit) / x64 | OK | WARNINGS | OK | 
| pitt | Mac OS X Tiger (10.4.11) / i386 | OK | OK | OK | 
* checking for file 'flowQ/DESCRIPTION' ... OK
* preparing 'flowQ':
* checking DESCRIPTION meta-information ... OK
* installing the package to re-build vignettes
* Installing *source* package 'flowQ' ...
** R
** inst
** preparing package for lazy loading
Loading required package: outliers
Loading required package: lattice
Loading required package: flowViz
Loading required package: flowCore
Loading required package: rrcov
Loading required package: robustbase
Scalable Robust Estimators with High Breakdown Point (version 0.4-07)
Loading required package: feature
Loading required package: KernSmooth
KernSmooth 2.22 installed
Copyright M. P. Wand 1997
Loading required package: Biobase
Loading required package: tools
Welcome to Bioconductor
  Vignettes contain introductory material. To view, type
  'openVignette()'. To cite Bioconductor, see
  'citation("Biobase")' and for packages 'citation(pkgname)'.
Attaching package: 'flowCore'
	The following object(s) are masked from package:stats :
	 filter 
Loading required package: RColorBrewer
Loading required package: latticeExtra
** help
 >>> Building/Updating help pages for package 'flowQ'
     Formats: text html latex example 
  aggregatorList-class              text    html    latex   example
  binaryAggregator-class            text    html    latex   example
  discreteAggregator-class          text    html    latex   example
  evaluateProcess                   text    html    latex   example
  factorAggregator-class            text    html    latex   example
  flowQ-package                     text    html    latex   example
  numericAggregator-class           text    html    latex   example
  outlier-class                     text    html    latex   example
  outlierResult-class               text    html    latex   example
  outliers-methods                  text    html    latex
  qaAggregator-class                text    html    latex   example
  qaGraph-class                     text    html    latex   example
  qaGraphList-class                 text    html    latex   example
  qaProcess-class                   text    html    latex   example
  qaProcess.marginevents            text    html    latex   example
  qaProcess.timeline                text    html    latex   example
  qaProcessFrame-class              text    html    latex   example
  qaReport                          text    html    latex   example
  rangeAggregator-class             text    html    latex   example
  stringAggregator-class            text    html    latex   example
  validProcess                      text    html    latex
  writeQAReport                     text    html    latex   example
** building package indices ...
* DONE (flowQ)
* creating vignettes ... OK
* removing junk files
* checking for LF line-endings in source and make files
* checking for empty or unneeded directories
* building 'flowQ_1.0.0.tar.gz'