explorase 1.4.0 Michael Lawrence
 | Snapshot Date: 2008-10-16 00:10:09 -0700 (Thu, 16 Oct 2008) |  | URL: https://hedgehog.fhcrc.org/bioconductor/branches/RELEASE_2_2/madman/Rpacks/explorase |  | Last Changed Rev: 31430 / Revision: 34573 |  | Last Changed Date: 2008-04-29 16:50:18 -0700 (Tue, 29 Apr 2008) |  
  | lamb1  | Linux (SUSE 10.1) / x86_64  |  OK  |  OK  |  | 
| wilson2  | Linux (openSUSE 10.3) / x86_64  |  OK  |  OK  |  | 
| wellington  | Linux (openSUSE 10.3) / i686  | [ OK ] |  OK  |  | 
| liverpool  | Windows Server 2003 R2 (32-bit) / x64  |  OK  |  OK  |  OK  | 
| pitt  | Mac OS X Tiger (10.4.11) / i386  | N O T   S U P P O R T E D | 
* checking for file 'explorase/DESCRIPTION' ... OK
* preparing 'explorase':
* checking DESCRIPTION meta-information ... OK
* installing the package to re-build vignettes
* Installing *source* package 'explorase' ...
** R
** inst
** preparing package for lazy loading
** help
Note: removing empty section \examples
Note: removing empty section \details
Note: removing empty section \examples
Note: removing empty section \details
Note: removing empty section \examples
Note: removing empty section \details
Note: removing empty section \examples
Note: removing empty section \details
Note: removing empty section \examples
Note: removing empty section \details
Note: removing empty section \examples
Note: removing empty section \details
Note: removing empty section \examples
Note: removing empty section \details
Note: removing empty section \examples
Note: removing empty section \details
Note: removing empty section \examples
Note: removing empty section \details
Note: removing empty section \examples
Note: removing empty section \details
Note: removing empty section \examples
Note: removing empty section \examples
Note: removing empty section \details
Note: removing empty section \examples
Note: removing empty section \details
Note: removing empty section \examples
Note: removing empty section \details
Note: removing empty section \arguments
Note: removing empty section \examples
Note: removing empty section \details
Note: removing empty section \examples
Note: removing empty section \details
Note: removing empty section \examples
Note: removing empty section \details
Note: removing empty section \examples
Note: removing empty section \details
Note: removing empty section \arguments
Note: removing empty section \examples
Note: removing empty section \details
Note: removing empty section \arguments
Note: removing empty section \examples
Note: removing empty section \details
Note: removing empty section \examples
Note: removing empty section \details
Note: removing empty section \examples
Note: removing empty section \details
Note: removing empty section \arguments
Note: removing empty section \examples
Note: removing empty section \details
Note: removing empty section \arguments
Note: removing empty section \examples
Note: removing empty section \details
Note: removing empty section \arguments
Note: removing empty section \examples
Note: removing empty section \details
Note: removing empty section \examples
Note: removing empty section \examples
Note: removing empty section \details
Note: removing empty section \examples
Note: removing empty section \examples
Note: removing empty section \examples
Note: removing empty section \examples
Note: removing empty section \examples
Note: removing empty section \details
Note: removing empty section \examples
Note: removing empty section \details
Note: removing empty section \examples
Note: removing empty section \details
Note: removing empty section \examples
Note: removing empty section \details
Note: removing empty section \examples
Note: removing empty section \details
Note: removing empty section \examples
Note: removing empty section \details
Note: removing empty section \examples
 >>> Building/Updating help pages for package 'explorase'
     Formats: text html latex example 
  exp-addEntityType-vx              text    html    latex
  exp-addFilterRule-rn              text    html    latex
  exp-calcAngleDist-31              text    html    latex
  exp-calcCanberraDist              text    html    latex
  exp-calcCorrelationDist-45        text    html    latex
  exp-calcDiff-y4                   text    html    latex
  exp-calcEuclideanDist-dn          text    html    latex
  exp-calcMahalanobisDist-r1        text    html    latex
  exp-calcResiduals-ps              text    html    latex
  exp-calcZeroCorDist-by            text    html    latex
  exp-close                         text    html    latex
  exp-colorEntities-1h              text    html    latex
  exp-dataset-6l                    text    html    latex
  exp-designFactors-72              text    html    latex
  exp-designFrame-d0                text    html    latex
  exp-designSelection-5s            text    html    latex
  exp-entitiesInList-df             text    html    latex
  exp-entityFrame-4j                text    html    latex
  exp-entitySelection-11            text    html    latex
  exp-entityType-69                 text    html    latex
  exp-entityTypes-9e                text    html    latex
  exp-filterRules-vt                text    html    latex
  exp-findPatterns-yw               text    html    latex
  exp-ggobi-69                      text    html    latex
  exp-isRunning-fo                  text    html    latex
  exp-listFrame-gp                  text    html    latex
  exp-listSelection                 text    html    latex
  exp-loadData-bo                   text    html    latex
  exp-loadDesign-35                 text    html    latex
  exp-loadFiles-1w                  text    html    latex
  exp-loadInfo-gk                   text    html    latex
  exp-loadLists-pr                  text    html    latex
  exp-loadProject-1g                text    html    latex
  exp-newList-bs                    text    html    latex
  exp-removeFilterRules-1i          text    html    latex
  exp-showClustering-b7             text    html    latex
  exp-showPatterns-bh               text    html    latex
  exp-showResults-sk                text    html    latex
  exp-toggleFilterRules-ts          text    html    latex
  explorase                         text    html    latex
** building package indices ...
* DONE (explorase)
* creating vignettes ... OK
* removing junk files
* checking for LF line-endings in source and make files
* checking for empty or unneeded directories
* building 'explorase_1.4.0.tar.gz'