| Ruuid 1.18.0 Biocore Team c/o BioC user list
 
 | Snapshot Date: 2008-10-16 00:10:09 -0700 (Thu, 16 Oct 2008) |  | URL: https://hedgehog.fhcrc.org/bioconductor/branches/RELEASE_2_2/madman/Rpacks/Ruuid |  | Last Changed Rev: 31430 / Revision: 34573 |  | Last Changed Date: 2008-04-29 16:50:18 -0700 (Tue, 29 Apr 2008) | 
 | lamb1 | Linux (SUSE 10.1) / x86_64 | OK | OK |  | 
| wilson2 | Linux (openSUSE 10.3) / x86_64 | OK | OK |  | 
| wellington | Linux (openSUSE 10.3) / i686 | OK | OK |  | 
| liverpool | Windows Server 2003 R2 (32-bit) / x64 | OK | OK | [ OK ] | 
| pitt | Mac OS X Tiger (10.4.11) / i386 | OK | OK | OK | 
installing R.css in E:/biocbld/bbs-2.2-bioc/meat/Ruuid.buildbin-libdir
Using auto-selected zip options ''
---------- Making package Ruuid ------------
   **********************************************
   WARNING: this package has a configure script
         It probably needs manual configuration
   **********************************************
  adding build stamp to DESCRIPTION
  installing NAMESPACE file and metadata
  running src/Makefile.win ...
gcc  -std=gnu99   -IE:/biocbld/bbs-2.2-bioc/R/src/include -O2 -DWin32  -c Ruuid.c -o Ruuid.o
gcc  -std=gnu99   -IE:/biocbld/bbs-2.2-bioc/R/src/include -O2 -DWin32  -c pack.c -o pack.o
gcc  -std=gnu99   -IE:/biocbld/bbs-2.2-bioc/R/src/include -O2 -DWin32  -c parse.c -o parse.o
gcc  -std=gnu99   -IE:/biocbld/bbs-2.2-bioc/R/src/include -O2 -DWin32  -c Rinit.c -o Rinit.o
gcc  -std=gnu99   -IE:/biocbld/bbs-2.2-bioc/R/src/include -O2 -DWin32  -c unpack.c -o unpack.o
gcc  -std=gnu99   -IE:/biocbld/bbs-2.2-bioc/R/src/include -O2 -DWin32  -c unparse.c -o unparse.o
rm -f -f Ruuid.a
ar cr Ruuid.a *.o
ranlib Ruuid.a
gcc  -std=gnu99  -shared   -o Ruuid.dll Ruuid.def Ruuid.a  -LE:/biocbld/bbs-2.2-bioc/R/bin -lrpcrt4 -lR
  ... done
  installing DLL
  installing R files
  installing inst files
  preparing package Ruuid for lazy loading
  installing man source files
  installing indices
  installing help
 >>> Building/Updating help pages for package 'Ruuid'
     Formats: text html latex example chm 
  Ruuid-class                       text    html    latex   example chm
  getuuid                           text    html    latex   example chm
  uuidt-class                       text    html    latex   example chm
Microsoft HTML Help Compiler 4.74.8702
Compiling e:\biocbld\bbs-2.2-bioc\meat\R.INSTALL.2228\Ruuid\chm\Ruuid.chm
Compile time: 0 minutes, 0 seconds
4	Topics
24	Local links
3	Internet links
1	Graphic
Created e:\biocbld\bbs-2.2-bioc\meat\R.INSTALL.2228\Ruuid\chm\Ruuid.chm, 18,670 bytes
Compression increased file by 1,958 bytes.
  adding MD5 sums
packaged installation of package 'Ruuid' as Ruuid_1.18.0.zip
* DONE (Ruuid)