Resourcerer 1.14.0 Jianhua Zhang
 | Snapshot Date: 2008-10-16 00:10:09 -0700 (Thu, 16 Oct 2008) |  | URL: https://hedgehog.fhcrc.org/bioconductor/branches/RELEASE_2_2/madman/Rpacks/Resourcerer |  | Last Changed Rev: 31430 / Revision: 34573 |  | Last Changed Date: 2008-04-29 16:50:18 -0700 (Tue, 29 Apr 2008) |  
  | lamb1  | Linux (SUSE 10.1) / x86_64  |  OK  |  OK  |  | 
| wilson2  | Linux (openSUSE 10.3) / x86_64  |  OK  |  OK  |  | 
| wellington  | Linux (openSUSE 10.3) / i686  |  OK  |  OK  |  | 
| liverpool  | Windows Server 2003 R2 (32-bit) / x64  | [ OK ] |  OK  |  OK  | 
| pitt  | Mac OS X Tiger (10.4.11) / i386  |  OK  |  OK  |  OK  | 
* checking for file 'Resourcerer/DESCRIPTION' ... OK
* preparing 'Resourcerer':
* checking DESCRIPTION meta-information ... OK
* installing the package to re-build vignettes
installing R.css in E:/biocbld/bbs-2.2-bioc/tmpdir/Rinst538481094
---------- Making package Resourcerer ------------
  adding build stamp to DESCRIPTION
  installing NAMESPACE file and metadata
  installing R files
  installing inst files
  preparing package Resourcerer for lazy loading
Loading required package: Biobase
Loading required package: tools
Welcome to Bioconductor
  Vignettes contain introductory material. To view, type
  'openVignette()'. To cite Bioconductor, see
  'citation("Biobase")' and for packages 'citation(pkgname)'.
Loading required package: AnnBuilder
Loading required package: XML
Loading required package: annotate
Loading required package: AnnotationDbi
Loading required package: DBI
Loading required package: RSQLite
Loading required package: xtable
  installing man source files
  installing indices
  installing help
Note: unmatched right brace in file 'getRsourcerer.Rd' on or after line 56
Note: unmatched right brace in file 'getRsourcerer.Rd' on or after line 56
 >>> Building/Updating help pages for package 'Resourcerer'
     Formats: text html latex example chm 
  getRsourcerer                     text    html    latex   example chm
  resourcerer2BioC                  text    html    latex   example chm
Microsoft HTML Help Compiler 4.74.8702
Compiling e:\biocbld\bbs-2.2-bioc\meat\Resourcerer\chm\Resourcerer.chm
Compile time: 0 minutes, 0 seconds
3	Topics
6	Local links
2	Internet links
1	Graphic
Created e:\biocbld\bbs-2.2-bioc\meat\Resourcerer\chm\Resourcerer.chm, 19,976 bytes
Compression increased file by 4,929 bytes.
  adding MD5 sums
* DONE (Resourcerer)
* creating vignettes ... OK
* removing junk files
* checking for LF line-endings in source and make files
* checking for empty or unneeded directories
* building 'Resourcerer_1.14.0.tar.gz'