| Rdbi 1.14.0 Jianhua Zhang
 
 | Snapshot Date: 2008-10-16 00:10:09 -0700 (Thu, 16 Oct 2008) |  | URL: https://hedgehog.fhcrc.org/bioconductor/branches/RELEASE_2_2/madman/Rpacks/Rdbi |  | Last Changed Rev: 31430 / Revision: 34573 |  | Last Changed Date: 2008-04-29 16:50:18 -0700 (Tue, 29 Apr 2008) | 
 | lamb1 | Linux (SUSE 10.1) / x86_64 | OK | OK |  | 
| wilson2 | Linux (openSUSE 10.3) / x86_64 | OK | OK |  | 
| wellington | Linux (openSUSE 10.3) / i686 | OK | OK |  | 
| liverpool | Windows Server 2003 R2 (32-bit) / x64 | OK | OK | [ OK ] | 
| pitt | Mac OS X Tiger (10.4.11) / i386 | OK | OK | OK | 
installing R.css in E:/biocbld/bbs-2.2-bioc/meat/Rdbi.buildbin-libdir
Using auto-selected zip options ''
---------- Making package Rdbi ------------
  adding build stamp to DESCRIPTION
  installing NAMESPACE file and metadata
  installing R files
  installing man source files
  installing indices
  installing help
 >>> Building/Updating help pages for package 'Rdbi'
     Formats: text html latex example chm 
  Rdbi-internal                     text    html    latex           chm
  dbAppendTable                     text    html    latex           chm
  dbClearResult                     text    html    latex           chm
  dbColumnInfo                      text    html    latex           chm
  dbConnect                         text    html    latex           chm
  dbConnectionInfo                  text    html    latex           chm
  dbDisconnect                      text    html    latex           chm
  dbGetQuery                        text    html    latex           chm
  dbGetResult                       text    html    latex           chm
  dbListTables                      text    html    latex           chm
  dbReadTable                       text    html    latex           chm
  dbReconnect                       text    html    latex           chm
  dbResultInfo                      text    html    latex           chm
  dbSendQuery                       text    html    latex           chm
  dbWriteTable                      text    html    latex           chm
  util                              text    html    latex   example chm
Microsoft HTML Help Compiler 4.74.8702
Compiling e:\biocbld\bbs-2.2-bioc\meat\R.INSTALL.952\Rdbi\chm\Rdbi.chm
Compile time: 0 minutes, 0 seconds
17	Topics
57	Local links
16	Internet links
1	Graphic
Created e:\biocbld\bbs-2.2-bioc\meat\R.INSTALL.952\Rdbi\chm\Rdbi.chm, 28,813 bytes
Compression decreased file by 25,622 bytes.
  adding MD5 sums
packaged installation of package 'Rdbi' as Rdbi_1.14.0.zip
* DONE (Rdbi)