MassSpecWavelet 1.6.0 Pan Du
 | Snapshot Date: 2008-10-16 00:10:09 -0700 (Thu, 16 Oct 2008) |  | URL: https://hedgehog.fhcrc.org/bioconductor/branches/RELEASE_2_2/madman/Rpacks/MassSpecWavelet |  | Last Changed Rev: 31430 / Revision: 34573 |  | Last Changed Date: 2008-04-29 16:50:18 -0700 (Tue, 29 Apr 2008) |  
  | lamb1  | Linux (SUSE 10.1) / x86_64  |  OK  |  OK  |  | 
| wilson2  | Linux (openSUSE 10.3) / x86_64  |  OK  |  OK  |  | 
| wellington  | Linux (openSUSE 10.3) / i686  |  OK  |  OK  |  | 
| liverpool  | Windows Server 2003 R2 (32-bit) / x64  |  OK  |  OK  | [ OK ] | 
| pitt  | Mac OS X Tiger (10.4.11) / i386  |  OK  |  OK  |  OK  | 
installing R.css in E:/biocbld/bbs-2.2-bioc/meat/MassSpecWavelet.buildbin-libdir
Using auto-selected zip options 'MassSpecWavelet-ZIPDATA=zip'
---------- Making package MassSpecWavelet ------------
  adding build stamp to DESCRIPTION
  installing NAMESPACE file and metadata
  installing R files
  installing inst files
  installing data files
  preparing package MassSpecWavelet for lazy loading
Loading required package: waveslim
  installing man source files
  installing indices
  zipping data
  installing help
Note: removing empty section \examples
Note: removing empty section \examples
Note: removing empty section \details
Note: removing empty section \references
Note: removing empty section \examples
Note: removing empty section \details
Note: removing empty section \references
Note: removing empty section \examples
 >>> Building/Updating help pages for package 'MassSpecWavelet'
     Formats: text html latex example chm 
  MassSpecWavelet.package           text    html    latex   example chm
  cwt                               text    html    latex   example chm
  exampleMS                         text    html    latex           chm
  extendLength                      text    html    latex   example chm
  extendNBase                       text    html    latex   example chm
  getLocalMaximumCWT                text    html    latex   example chm
  getRidge                          text    html    latex   example chm
  getRidgeLength                    text    html    latex           chm
  getRidgeValue                     text    html    latex           chm
  identifyMajorPeaks                text    html    latex   example chm
  localMaximum                      text    html    latex   example chm
  mzInd2vRange                      text    html    latex           chm
  mzV2indRange                      text    html    latex           chm
  peakDetectionCWT                  text    html    latex   example chm
  plotLocalMax                      text    html    latex   example chm
  plotPeak                          text    html    latex   example chm
  plotRidgeList                     text    html    latex   example chm
  smoothDWT                         text    html    latex           chm
  tuneInPeakInfo                    text    html    latex   example chm
Microsoft HTML Help Compiler 4.74.8702
Compiling e:\biocbld\bbs-2.2-bioc\meat\R.INSTALL.4676\MassSpecWavelet\chm\MassSpecWavelet.chm
Compile time: 0 minutes, 2 seconds
20	Topics
84	Local links
0	Internet links
1	Graphic
Created e:\biocbld\bbs-2.2-bioc\meat\R.INSTALL.4676\MassSpecWavelet\chm\MassSpecWavelet.chm, 34,224 bytes
Compression decreased file by 28,461 bytes.
  adding MD5 sums
packaged installation of package 'MassSpecWavelet' as MassSpecWavelet_1.6.0.zip
* DONE (MassSpecWavelet)