| LBE 1.8.0 Cyril Dalmasso
 
 | Snapshot Date: 2008-10-16 00:10:09 -0700 (Thu, 16 Oct 2008) |  | URL: https://hedgehog.fhcrc.org/bioconductor/branches/RELEASE_2_2/madman/Rpacks/LBE |  | Last Changed Rev: 31430 / Revision: 34573 |  | Last Changed Date: 2008-04-29 16:50:18 -0700 (Tue, 29 Apr 2008) | 
 | lamb1 | Linux (SUSE 10.1) / x86_64 | OK | OK |  | 
| wilson2 | Linux (openSUSE 10.3) / x86_64 | OK | OK |  | 
| wellington | Linux (openSUSE 10.3) / i686 | OK | OK |  | 
| liverpool | Windows Server 2003 R2 (32-bit) / x64 | OK | OK | [ OK ] | 
| pitt | Mac OS X Tiger (10.4.11) / i386 | OK | OK | OK | 
installing R.css in E:/biocbld/bbs-2.2-bioc/meat/LBE.buildbin-libdir
Using auto-selected zip options 'LBE-ZIPDATA=zip'
---------- Making package LBE ------------
  adding build stamp to DESCRIPTION
  installing R files
  installing inst files
  installing data files
  installing man source files
  installing indices
  zipping data
  installing help
Note: unmatched right brace in file 'LBE-package.Rd' on or after line 10
Note: unmatched right brace in file 'LBE-package.Rd' on or after line 11
Note: unmatched right brace in file 'LBE-package.Rd' on or after line 10
Note: unmatched right brace in file 'LBE-package.Rd' on or after line 11
 >>> Building/Updating help pages for package 'LBE'
     Formats: text html latex example chm 
  LBE-package                       text    html    latex           chm
  LBE                               text    html    latex   example chm
  LBEa                              text    html    latex   example chm
  LBEplot                           text    html    latex   example chm
  LBEsummary                        text    html    latex   example chm
  LBEwrite                          text    html    latex   example chm
  golub.pval                        text    html    latex           chm
  hedenfalk.pval                    text    html    latex           chm
Microsoft HTML Help Compiler 4.74.8702
Compiling e:\biocbld\bbs-2.2-bioc\meat\R.INSTALL.5444\LBE\chm\LBE.chm
Compile time: 0 minutes, 0 seconds
9	Topics
36	Local links
0	Internet links
1	Graphic
Created e:\biocbld\bbs-2.2-bioc\meat\R.INSTALL.5444\LBE\chm\LBE.chm, 26,700 bytes
Compression decreased file by 3,843 bytes.
  adding MD5 sums
packaged installation of package 'LBE' as LBE_1.8.0.zip
* DONE (LBE)