| HEM 1.12.0 HyungJun Cho
 
 | Snapshot Date: 2008-10-16 00:10:09 -0700 (Thu, 16 Oct 2008) |  | URL: https://hedgehog.fhcrc.org/bioconductor/branches/RELEASE_2_2/madman/Rpacks/HEM |  | Last Changed Rev: 31430 / Revision: 34573 |  | Last Changed Date: 2008-04-29 16:50:18 -0700 (Tue, 29 Apr 2008) | 
 | lamb1 | Linux (SUSE 10.1) / x86_64 | OK | OK |  | 
| wilson2 | Linux (openSUSE 10.3) / x86_64 | OK | OK |  | 
| wellington | Linux (openSUSE 10.3) / i686 | OK | OK |  | 
| liverpool | Windows Server 2003 R2 (32-bit) / x64 | OK | OK | OK | 
| pitt | Mac OS X Tiger (10.4.11) / i386 | [ OK ] | OK | OK | 
* checking for file 'HEM/DESCRIPTION' ... OK
* preparing 'HEM':
* checking DESCRIPTION meta-information ... OK
* cleaning src
* installing the package to re-build vignettes
* Installing *source* package 'HEM' ...
** libs
** arch - i386
gcc -arch i386 -isysroot /Developer/SDKs/MacOSX10.4u.sdk -mmacosx-version-min=10.4 -std=gnu99 -I/Library/Frameworks/R.framework/Resources/include -I/Library/Frameworks/R.framework/Resources/include/i386  -msse3    -fPIC  -g -O2 -march=nocona -c hem.c -o hem.o
gcc -arch i386 -isysroot /Developer/SDKs/MacOSX10.4u.sdk -mmacosx-version-min=10.4 -std=gnu99 -dynamiclib -Wl,-headerpad_max_install_names -mmacosx-version-min=10.4 -undefined dynamic_lookup -single_module -multiply_defined suppress -L/usr/local/lib -o HEM.so hem.o   -F/Library/Frameworks/R.framework/.. -framework R -Wl,-framework -Wl,CoreFoundation
** arch - ppc
gcc -arch ppc -isysroot /Developer/SDKs/MacOSX10.4u.sdk -mmacosx-version-min=10.4 -std=gnu99 -I/Library/Frameworks/R.framework/Resources/include -I/Library/Frameworks/R.framework/Resources/include/ppc  -I/usr/local/include    -fPIC  -g -O2 -c hem.c -o hem.o
gcc -arch ppc -isysroot /Developer/SDKs/MacOSX10.4u.sdk -mmacosx-version-min=10.4 -std=gnu99 -dynamiclib -Wl,-headerpad_max_install_names -mmacosx-version-min=10.4 -undefined dynamic_lookup -single_module -multiply_defined suppress -L/usr/local/lib -o HEM.so hem.o   -F/Library/Frameworks/R.framework/.. -framework R -Wl,-framework -Wl,CoreFoundation
** R
** data
** inst
** preparing package for lazy loading
Loading required package: Biobase
Loading required package: tools
Welcome to Bioconductor
  Vignettes contain introductory material. To view, type
  'openVignette()'. To cite Bioconductor, see
  'citation("Biobase")' and for packages 'citation(pkgname)'.
** help
 >>> Building/Updating help pages for package 'HEM'
     Formats: text html latex example 
  am.tran                           text    html    latex
  am.tran.half                      text    html    latex
  base.ASE.Olig                     text    html    latex
  base.PSE.Olig                     text    html    latex
  base.error.Olig                   text    html    latex
  base.error.Olig.quanOnly          text    html    latex
  boot.base.ASE.Olig                text    html    latex
  boot.base.PSE.Olig                text    html    latex
  boot.base.error.Olig              text    html    latex
  fixbound.predict.smooth.spline    text    html    latex
  hem                               text    html    latex   example
  hem.eb.prior                      text    html    latex   example
  hem.fdr                           text    html    latex   example
  hem.null.no                       text    html    latex
  hem.null.one                      text    html    latex
  hem.null.two                      text    html    latex
  hem.preproc                       text    html    latex   example
  mubcp                             text    html    latex
  nonpar.error.Olig                 text    html    latex
  nonpar.no.error.Olig              text    html    latex
  nonpar.rep.error.Olig             text    html    latex
  par.error.Olig                    text    html    latex
  par.no.error.Olig                 text    html    latex
  par.rep.error.Olig                text    html    latex
  pbrain                            text    html    latex
  permut                            text    html    latex
  quant.norm                        text    html    latex
  quant.normal                      text    html    latex
  quant.normal2                     text    html    latex
  quant.normalize                   text    html    latex
  remove.sig.genes                  text    html    latex
** building package indices ...
* DONE (HEM)
* creating vignettes ... OK
* cleaning src
* removing junk files
* checking for LF line-endings in source and make files
* checking for empty or unneeded directories
* building 'HEM_1.12.0.tar.gz'