| GGBase 2.0.4 Vince Carey
 
 | Snapshot Date: 2008-10-16 00:10:09 -0700 (Thu, 16 Oct 2008) |  | URL: https://hedgehog.fhcrc.org/bioconductor/branches/RELEASE_2_2/madman/Rpacks/GGBase |  | Last Changed Rev: 31821 / Revision: 34573 |  | Last Changed Date: 2008-05-20 14:37:00 -0700 (Tue, 20 May 2008) | 
 | lamb1 | Linux (SUSE 10.1) / x86_64 | OK | OK |  | 
| wilson2 | Linux (openSUSE 10.3) / x86_64 | OK | OK |  | 
| wellington | Linux (openSUSE 10.3) / i686 | OK | OK |  | 
| liverpool | Windows Server 2003 R2 (32-bit) / x64 | OK | OK | OK | 
| pitt | Mac OS X Tiger (10.4.11) / i386 | [ OK ] | OK | OK | 
* checking for file 'GGBase/DESCRIPTION' ... OK
* preparing 'GGBase':
* checking DESCRIPTION meta-information ... OK
* installing the package to re-build vignettes
* Installing *source* package 'GGBase' ...
** R
** inst
** preparing package for lazy loading
Loading required package: Biobase
Loading required package: tools
Welcome to Bioconductor
  Vignettes contain introductory material. To view, type
  'openVignette()'. To cite Bioconductor, see
  'citation("Biobase")' and for packages 'citation(pkgname)'.
Loading required package: GSEABase
Loading required package: AnnotationDbi
Loading required package: DBI
Loading required package: RSQLite
Loading required package: annotate
Loading required package: xtable
Loading required package: snpMatrix
Loading required package: survival
Loading required package: splines
** help
 >>> Building/Updating help pages for package 'GGBase'
     Formats: text html latex example 
  GGfitter-class                    text    html    latex   example
  casting                           text    html    latex   example
  gwSnpScreenResult-class           text    html    latex   example
  hmceuAmbB36_dbconn                text    html    latex   example
  oGtypeExSet-class                 text    html    latex   example
  racExSet-class                    text    html    latex   example
  smlSet-class                      text    html    latex   example
  snpMeta-class                     text    html    latex   example
  snpScreenResult-class             text    html    latex   example
** building package indices ...
* DONE (GGBase)
* creating vignettes ... OK
* removing junk files
* checking for LF line-endings in source and make files
* checking for empty or unneeded directories
* building 'GGBase_2.0.4.tar.gz'