* checking for file 'BioMVCClass/DESCRIPTION' ... OK
* preparing 'BioMVCClass':
* checking DESCRIPTION meta-information ... OK
* installing the package to re-build vignettes
installing R.css in E:/biocbld/bbs-2.2-bioc/tmpdir/Rinst578036279
---------- Making package BioMVCClass ------------
adding build stamp to DESCRIPTION
installing NAMESPACE file and metadata
installing R files
installing inst files
installing man source files
installing indices
installing help
Note: removing empty section \examples
Note: removing empty section \examples
Note: removing empty section \examples
Note: removing empty section \examples
Note: removing empty section \examples
Note: removing empty section \examples
Note: removing empty section \examples
Note: removing empty section \examples
Note: removing empty section \examples
Note: removing empty section \examples
Note: removing empty section \examples
Note: removing empty section \examples
>>> Building/Updating help pages for package 'BioMVCClass'
Formats: text html latex example chm
GSE-class text html latex chm
exprModel-class text html latex chm
graphModel-class text html latex chm
graphView-class text html latex chm
gseModel-class text html latex chm
heatmapView-class text html latex chm
Microsoft HTML Help Compiler 4.74.8702
Compiling e:\biocbld\bbs-2.2-bioc\meat\BioMVCClass\chm\BioMVCClass.chm
Compile time: 0 minutes, 0 seconds
7 Topics
48 Local links
0 Internet links
1 Graphic
Created e:\biocbld\bbs-2.2-bioc\meat\BioMVCClass\chm\BioMVCClass.chm, 21,568 bytes
Compression decreased file by 12,563 bytes.
adding MD5 sums
* DONE (BioMVCClass)
* creating vignettes ... OK
* removing junk files
* checking for LF line-endings in source and make files
* checking for empty or unneeded directories
* building 'BioMVCClass_1.8.0.tar.gz'