BAC 1.0.0 Raphael Gottardo
 | Snapshot Date: 2008-10-16 00:10:09 -0700 (Thu, 16 Oct 2008) |  | URL: https://hedgehog.fhcrc.org/bioconductor/branches/RELEASE_2_2/madman/Rpacks/BAC |  | Last Changed Rev: 31430 / Revision: 34573 |  | Last Changed Date: 2008-04-29 16:50:18 -0700 (Tue, 29 Apr 2008) |  
  | lamb1  | Linux (SUSE 10.1) / x86_64  |  OK  |  OK  |  | 
| wilson2  | Linux (openSUSE 10.3) / x86_64  |  OK  |  OK  |  | 
| wellington  | Linux (openSUSE 10.3) / i686  |  OK  |  OK  |  | 
| liverpool  | Windows Server 2003 R2 (32-bit) / x64  |  OK  |  OK  | [ OK ] | 
| pitt  | Mac OS X Tiger (10.4.11) / i386  |  OK  |  OK  |  OK  | 
installing R.css in E:/biocbld/bbs-2.2-bioc/meat/BAC.buildbin-libdir
Using auto-selected zip options 'BAC-ZIPDATA=zip'
---------- Making package BAC ------------
  adding build stamp to DESCRIPTION
  installing NAMESPACE file and metadata
  making DLL ...
making BAC.d from BAC.c
making util.d from util.c
gcc  -std=gnu99  -IE:/biocbld/bbs-2.2-bioc/R/include     -O3 -Wall  -c BAC.c -o BAC.o
gcc  -std=gnu99  -IE:/biocbld/bbs-2.2-bioc/R/include     -O3 -Wall  -c util.c -o util.o
windres --preprocessor="gcc -E -xc -DRC_INVOKED" -I E:/biocbld/bbs-2.2-bioc/R/include  -i BAC_res.rc -o BAC_res.o
gcc  -std=gnu99  -shared -s  -o BAC.dll BAC.def BAC.o util.o BAC_res.o  -LE:/biocbld/bbs-2.2-bioc/R/bin    -lR
  ... DLL made
  installing DLL
  installing R files
  installing inst files
  installing data files
  installing man source files
  installing indices
  zipping data
  installing help
Note: removing empty section \note
Note: removing empty section \note
Note: removing empty section \details
Note: removing empty section \note
Note: removing empty section \details
Note: removing empty section \note
 >>> Building/Updating help pages for package 'BAC'
     Formats: text html latex example chm 
  BAC                               text    html    latex   example chm
  CallRegions                       text    html    latex   example chm
  ER                                text    html    latex           chm
Microsoft HTML Help Compiler 4.74.8702
Compiling e:\biocbld\bbs-2.2-bioc\meat\R.INSTALL.3832\BAC\chm\BAC.chm
Compile time: 0 minutes, 0 seconds
4	Topics
6	Local links
0	Internet links
1	Graphic
Created e:\biocbld\bbs-2.2-bioc\meat\R.INSTALL.3832\BAC\chm\BAC.chm, 19,950 bytes
Compression increased file by 6,106 bytes.
  adding MD5 sums
packaged installation of package 'BAC' as BAC_1.0.0.zip
* DONE (BAC)