| widgetInvoke 1.12.0 Jeff Gentry
 
 | Snapshot Date: 2008-10-16 00:10:09 -0700 (Thu, 16 Oct 2008) |  | URL: https://hedgehog.fhcrc.org/bioconductor/branches/RELEASE_2_2/madman/Rpacks/widgetInvoke |  | Last Changed Rev: 31430 / Revision: 34573 |  | Last Changed Date: 2008-04-29 16:50:18 -0700 (Tue, 29 Apr 2008) | 
 | lamb1 | Linux (SUSE 10.1) / x86_64 | OK | OK |  | 
| wilson2 | Linux (openSUSE 10.3) / x86_64 | OK | OK |  | 
| wellington | Linux (openSUSE 10.3) / i686 | [ OK ] | OK |  | 
| liverpool | Windows Server 2003 R2 (32-bit) / x64 | N O T   S U P P O R T E D | 
| pitt | Mac OS X Tiger (10.4.11) / i386 | OK | OK | OK | 
* checking for file 'widgetInvoke/DESCRIPTION' ... OK
* preparing 'widgetInvoke':
* checking DESCRIPTION meta-information ... OK
* installing the package to re-build vignettes
* Installing *source* package 'widgetInvoke' ...
** R
** inst
** preparing package for lazy loading
Loading required package: XML
Loading required package: RGtk
** help
Note: removing empty section \examples
Note: removing empty section \examples
 >>> Building/Updating help pages for package 'widgetInvoke'
     Formats: text html latex example 
  SimpleW-class                     text    html    latex
  createWF                          text    html    latex   example
  fun2wFun                          text    html    latex   example
  funArg-class                      text    html    latex   example
  testWIfun                         text    html    latex
  wFun-class                        text    html    latex   example
  widgetInvoke                      text    html    latex   example
  writeWIxml                        text    html    latex   example
** building package indices ...
* DONE (widgetInvoke)
* creating vignettes ... OK
* removing junk files
* checking for LF line-endings in source and make files
* checking for empty or unneeded directories
* building 'widgetInvoke_1.12.0.tar.gz'