| metaArray 1.14.0 Hyungwon Choi
 
 | Snapshot Date: 2008-10-16 00:10:09 -0700 (Thu, 16 Oct 2008) |  | URL: https://hedgehog.fhcrc.org/bioconductor/branches/RELEASE_2_2/madman/Rpacks/metaArray |  | Last Changed Rev: 31430 / Revision: 34573 |  | Last Changed Date: 2008-04-29 16:50:18 -0700 (Tue, 29 Apr 2008) | 
 | lamb1 | Linux (SUSE 10.1) / x86_64 | OK | OK |  | 
| wilson2 | Linux (openSUSE 10.3) / x86_64 | OK | OK |  | 
| wellington | Linux (openSUSE 10.3) / i686 | OK | OK |  | 
| liverpool | Windows Server 2003 R2 (32-bit) / x64 | OK | OK | [ OK ] | 
| pitt | Mac OS X Tiger (10.4.11) / i386 | OK | OK | OK | 
installing R.css in E:/biocbld/bbs-2.2-bioc/meat/metaArray.buildbin-libdir
Using auto-selected zip options 'metaArray-ZIPDATA=zip'
---------- Making package metaArray ------------
  adding build stamp to DESCRIPTION
  making DLL ...
making contr.d from contr.c
making dproc.d from dproc.c
making dproc2.d from dproc2.c
making intcor.d from intcor.c
making lowess.d from lowess.c
making mmath.d from mmath.c
making perm.d from perm.c
making poe.d from poe.c
gcc  -std=gnu99  -IE:/biocbld/bbs-2.2-bioc/R/include   -DUSEDOUBLE -DWINDOWS  -O3 -Wall  -c contr.c -o contr.o
gcc  -std=gnu99  -IE:/biocbld/bbs-2.2-bioc/R/include   -DUSEDOUBLE -DWINDOWS  -O3 -Wall  -c dproc.c -o dproc.o
gcc  -std=gnu99  -IE:/biocbld/bbs-2.2-bioc/R/include   -DUSEDOUBLE -DWINDOWS  -O3 -Wall  -c dproc2.c -o dproc2.o
gcc  -std=gnu99  -IE:/biocbld/bbs-2.2-bioc/R/include   -DUSEDOUBLE -DWINDOWS  -O3 -Wall  -c intcor.c -o intcor.o
gcc  -std=gnu99  -IE:/biocbld/bbs-2.2-bioc/R/include   -DUSEDOUBLE -DWINDOWS  -O3 -Wall  -c lowess.c -o lowess.o
gcc  -std=gnu99  -IE:/biocbld/bbs-2.2-bioc/R/include   -DUSEDOUBLE -DWINDOWS  -O3 -Wall  -c mmath.c -o mmath.o
gcc  -std=gnu99  -IE:/biocbld/bbs-2.2-bioc/R/include   -DUSEDOUBLE -DWINDOWS  -O3 -Wall  -c perm.c -o perm.o
gcc  -std=gnu99  -IE:/biocbld/bbs-2.2-bioc/R/include   -DUSEDOUBLE -DWINDOWS  -O3 -Wall  -c poe.c -o poe.o
poe.c: In function 'poe_one_iter':
poe.c:431: warning: suggest parentheses around comparison in operand of &
poe.c:437: warning: suggest parentheses around comparison in operand of &
poe.c:438: warning: suggest parentheses around comparison in operand of |
windres --preprocessor="gcc -E -xc -DRC_INVOKED" -I E:/biocbld/bbs-2.2-bioc/R/include  -i metaArray_res.rc -o metaArray_res.o
gcc  -std=gnu99  -shared -s  -o metaArray.dll metaArray.def contr.o dproc.o dproc2.o intcor.o lowess.o mmath.o perm.o poe.o metaArray_res.o  -LE:/biocbld/bbs-2.2-bioc/R/bin -lm   -lR
  ... DLL made
  installing DLL
  installing R files
  installing inst files
  installing data files
  installing man source files
  installing indices
  zipping data
  installing help
Note: removing empty section \examples
Note: removing empty section \examples
Note: removing empty section \examples
Note: removing empty section \examples
Note: removing empty section \examples
Note: removing empty section \examples
Note: removing empty section \examples
Note: removing empty section \examples
 >>> Building/Updating help pages for package 'metaArray'
     Formats: text html latex example chm 
  Zscore                            text    html    latex   example chm
  em.draw                           text    html    latex           chm
  find.init                         text    html    latex           chm
  fit.em                            text    html    latex           chm
  intcor                            text    html    latex   example chm
  logit                             text    html    latex           chm
  mdata                             text    html    latex           chm
  poe.em                            text    html    latex           chm
  poe.mcmc                          text    html    latex   example chm
Microsoft HTML Help Compiler 4.74.8702
Compiling e:\biocbld\bbs-2.2-bioc\meat\R.INSTALL.1088\metaArray\chm\metaArray.chm
Compile time: 0 minutes, 0 seconds
10	Topics
13	Local links
0	Internet links
1	Graphic
Created e:\biocbld\bbs-2.2-bioc\meat\R.INSTALL.1088\metaArray\chm\metaArray.chm, 26,054 bytes
Compression decreased file by 2,001 bytes.
  adding MD5 sums
packaged installation of package 'metaArray' as metaArray_1.14.0.zip
* DONE (metaArray)